BEGIN:VCALENDAR
VERSION:2.0
PRODID:-//Patriot Guard Riders - ECPv5.6.0//NONSGML v1.0//EN
CALSCALE:GREGORIAN
METHOD:PUBLISH
X-WR-CALNAME:Patriot Guard Riders
X-ORIGINAL-URL:https://www.patriotguard.org
X-WR-CALDESC:Events for Patriot Guard Riders
BEGIN:VTIMEZONE
TZID:America/New_York
BEGIN:DAYLIGHT
TZOFFSETFROM:-0500
TZOFFSETTO:-0400
TZNAME:EDT
DTSTART:20160313T070000
END:DAYLIGHT
BEGIN:STANDARD
TZOFFSETFROM:-0400
TZOFFSETTO:-0500
TZNAME:EST
DTSTART:20161106T060000
END:STANDARD
END:VTIMEZONE
BEGIN:VEVENT
DTSTART;TZID=America/New_York:20160720T090000
DTEND;TZID=America/New_York:20160720T110000
DTSTAMP:20210512T150449
CREATED:20160720T130000Z
LAST-MODIFIED:20191201T144214Z
UID:410480-1469005200-1469012400@www.patriotguard.org
SUMMARY:Kenneth Orval Thompson\, 98\, USAAF\, WWII
DESCRIPTION:Kenneth Orval Thompson\, Ph.D\, 98\nUS Army Air Force WWII\nUS Air Force Veteran\nHuntsville\, AL\n\n\n\n \n\nAmerica and Alabama has lost another Hero.\n\n\nThe family of Kenneth Thompson has asked the Patriot Guard to honor their loved one by standing a flag line at his visitation and escorting him to his final resting place. \n\nWe will be Honored to do so.\nMr. Thompson stood for us…Now is the time to stand for Him.\n\n\nMr. Thompson (98) was in the U.S. Army Air Corps in WWII\, and was the recipient of many awards\, including the Silver Star\, Distinguished Flying Cross\, and two Purple Hearts. Subsequently he was in the Army Air Corps Active Reserve\, and the US Air Force. \nVisitation: Wednesday\, July 20\, 2016\, 12:00pm – 1:00pm \nValhalla Funeral Home and Memory Gardens\n698 Winchester Road NE\nHuntsville\, AL  35811 \nStage at 11:30pm \nService: 1:00 \nBurial with military honors immediately following service. \nRCIC:\nVickie Meader\, RC/HC\n256-508-9605\nduanevickie@mindspring.com
URL:https://www.patriotguard.org/mission/kenneth-orval-thompson-98-usaaf-wwii/
CATEGORIES:Archive
END:VEVENT
END:VCALENDAR