BEGIN:VCALENDAR
VERSION:2.0
PRODID:-//Patriot Guard Riders - ECPv5.6.0//NONSGML v1.0//EN
CALSCALE:GREGORIAN
METHOD:PUBLISH
X-WR-CALNAME:Patriot Guard Riders
X-ORIGINAL-URL:https://www.patriotguard.org
X-WR-CALDESC:Events for Patriot Guard Riders
BEGIN:VTIMEZONE
TZID:America/New_York
BEGIN:DAYLIGHT
TZOFFSETFROM:-0500
TZOFFSETTO:-0400
TZNAME:EDT
DTSTART:20130310T070000
END:DAYLIGHT
BEGIN:STANDARD
TZOFFSETFROM:-0400
TZOFFSETTO:-0500
TZNAME:EST
DTSTART:20131103T060000
END:STANDARD
END:VTIMEZONE
BEGIN:VEVENT
DTSTART;TZID=America/New_York:20130620T090000
DTEND;TZID=America/New_York:20130620T110000
DTSTAMP:20210511T132621
CREATED:20130620T130000Z
LAST-MODIFIED:20191201T120200Z
UID:385672-1371718800-1371726000@www.patriotguard.org
SUMMARY:Kenneth M. Leland\, 88\, USA\, WWII Veteran
DESCRIPTION:Kenneth M. Leland \nUnited States Army  \nWorld War II Veteran \nFremont\, NE \n20 June 2013 \nThe family of WWII Veteran  Kenneth M. Leland\, 88\, has requested the Patriot Guard Riders participate in his funeral service at 11am on Thursday morning at Salem Lutheran Church in Fremont Nebraska.  Burial with military honors will be in Wisner Ne\, later in the day. \nHe served in the United States Army from May of 1943 to November of 1945. He had been awarded the Purple Heart with One Bronze Oak Leaf Cluster and the Good Conduct Medal. He saw action in Southern France and the Rhineland and was wounded in the European-African-Middle Eastern Theater. Following his discharge\, he returned to the Norfolk area. \nThe PGR will provide a Flag Line at the 11am service at Salem Lutheran Church\, 401 E. Military\, Fremont\, Ne.  There is no plan for an escort for the burial which will be four hours later in Wisner\, Ne. \nSTAGE DATE:             Thursday\, June 20\, 2013 \nSTAGE LOCATION:    Salem Lutheran Church\, 401 E. Military\, Fremont\, NE 68025 \nSTAGE TIME:                        10:00am \nPGR MEETING:                     10:15am \nFLAG LINE:                           10:30am    Flags will be provided \nFUNERAL SERVICE:            11:00am \n \nRIDE CAPTAIN:  Levi Webb  shrek200348@yahoo.com   402 372 2199 \n \nFLAG CAPTAIN: Chuck Sohm\, nepgrchuck@cox.net  402 306 7860 \nSafety being paramount – ride only if conditions permit. The Patriot Guard Riders have been recognized by the National Safety Council and the Nebraska Office of Highway Safety for adhering to and promoting motorcycle safety. Ride Alert – Ride Safe. \nPlease monitor “Confirmed Missions” for changes and updates \nChuck Sohm\, Assistant State Captain\, 402 306 7860  \nOn behalf of: \nScott Knudsen \nNebraska State Captain\nPatriot Guard Riders\n402-680-7598 -Omaha
URL:https://www.patriotguard.org/mission/kenneth-m-leland-88-usa-wwii-veteran/
CATEGORIES:Archive
END:VEVENT
END:VCALENDAR