BEGIN:VCALENDAR
VERSION:2.0
PRODID:-//Patriot Guard Riders - ECPv5.3.2.1//NONSGML v1.0//EN
CALSCALE:GREGORIAN
METHOD:PUBLISH
X-WR-CALNAME:Patriot Guard Riders
X-ORIGINAL-URL:https://www.patriotguard.org
X-WR-CALDESC:Events for Patriot Guard Riders
BEGIN:VTIMEZONE
TZID:America/New_York
BEGIN:DAYLIGHT
TZOFFSETFROM:-0500
TZOFFSETTO:-0400
TZNAME:EDT
DTSTART:20190310T070000
END:DAYLIGHT
BEGIN:STANDARD
TZOFFSETFROM:-0400
TZOFFSETTO:-0500
TZNAME:EST
DTSTART:20191103T060000
END:STANDARD
END:VTIMEZONE
BEGIN:VEVENT
DTSTART;VALUE=DATE:20190913
DTEND;VALUE=DATE:20190914
DTSTAMP:20210401T081906
CREATED:20190913T024757Z
LAST-MODIFIED:20190913T024757Z
UID:173699-1568332800-1568419199@www.patriotguard.org
SUMMARY:Kenneth Lee Anderson
DESCRIPTION:Honor Mission\nKenneth Lee Anderson\, Veteran\nUSAF –\nFort Gibson\, Oklahoma – 09-13-19\n\n\n\nABOUT THE MISSION: \nThe family of A1C Kenneth Lee Anderson\, USAF Veteran\, has asked the PGR attend his service at 1:00pm. Will be a flag line and Honors\, USAF Honor Guard will perform honors.\n\n\nPRIMARY STAGING DETAILS: 09-13-19 \nStaging Time: 12:00 PM\n \nFt. Gibson National Cemetery\n1423 Cemetery Road\nFort Gibson\, Oklahoma\n\n\nRide Captain: \nDick “Kickstand” Fawcett\ndickfawcett1@gmail.com\n918-782-7661\n\n\nSpecial Instructions: \nBriefing: 12:15pm\nWeather:81°/66° 30% chance!\n\n\nFlags & Water:\nFlags will be provided\nLarge Bike Flags will NOT be needed.\nWater WILL NOT be provided\, please bring your own.\n\n\n\nSubmitted By: Richard Fawcett \nPosition: Oklahoma Assistant State Captain \n\nNote: You do not have to own/ride a motorcycle or be a veteran to join\, and membership is Free. The only requirement is RESPECT! To subscribe to receive mission notices\, log into the National Site and click on the Members tab at the top. Select the Subscribe to PGR Missions option.\n Print This Page
URL:https://www.patriotguard.org/mission/kenneth-lee-anderson-2/
CATEGORIES:Honor Mission
END:VEVENT
END:VCALENDAR