BEGIN:VCALENDAR
VERSION:2.0
PRODID:-//Patriot Guard Riders - ECPv5.3.2.1//NONSGML v1.0//EN
CALSCALE:GREGORIAN
METHOD:PUBLISH
X-WR-CALNAME:Patriot Guard Riders
X-ORIGINAL-URL:https://www.patriotguard.org
X-WR-CALDESC:Events for Patriot Guard Riders
BEGIN:VTIMEZONE
TZID:America/New_York
BEGIN:DAYLIGHT
TZOFFSETFROM:-0500
TZOFFSETTO:-0400
TZNAME:EDT
DTSTART:20190310T070000
END:DAYLIGHT
BEGIN:STANDARD
TZOFFSETFROM:-0400
TZOFFSETTO:-0500
TZNAME:EST
DTSTART:20191103T060000
END:STANDARD
END:VTIMEZONE
BEGIN:VEVENT
DTSTART;VALUE=DATE:20190606
DTEND;VALUE=DATE:20190607
DTSTAMP:20210405T050311
CREATED:20190606T043205Z
LAST-MODIFIED:20190606T043205Z
UID:163729-1559779200-1559865599@www.patriotguard.org
SUMMARY:Kenneth L. Ullum
DESCRIPTION:Honor Mission\nKenneth L. Ullum\, Veteran\nUSN – Korea\nWarsaw\, Missouri – 06-06-19\n\n\n \n\nABOUT THE MISSION: \nThe family and loved ones of hero Kenneth L. Ullum have honored the Patriot Guard Riders with a request for a flag line\, a final salute and an escort to our hero’s final resting place where full military honors will be rendered. Hero Ullum proudly and honorably served in the U.S. Navy during the Korean War\, where he achieved the rank of Boatswain’s Mate Third Class and earned several medals and decorations including the National Defense Service Medal\, the United Nations Service Medal\, the China Sea Service Medal\, the Korean Service Ribbon with four stars and the Good Conduct Medal.\n\n\nPRIMARY STAGING DETAILS: 06-06-19 \nStaging Time: 1:00 PM\n \nReser Funeral Home\n101 Main St.\nWarsaw\, Missouri\n\n\nRide Captain: \nKent McGregor\n(850) 544-6616\ncMcgregor.kent@gmail.com\n\n\nSpecial Instructions: \nBriefing: 1:15 pm\nFlag Line: 1:30 pm\nService: 2:00 pm\nFinal Salute: 2:45 pm\nEscort: 3:00 pm\nTo Cross Timbers Cemetery (a distance of approx. 16 mi/25 min) where we will stand a flag line while full military honors are rendered.\nWeather Forecast: 77° and 20% chance of precipitation\n\nFlags & Water:\nFlags will be provided\nIf you have large bike flags\, please bring them.\nWater will be provided.\n\n\n\nSubmitted By: Kent McGregor \nPosition: Missouri Ride Captain \n\nNote: You do not have to own/ride a motorcycle or be a veteran to join\, and membership is Free. The only requirement is RESPECT! To subscribe to receive mission notices\, log into the National Site and click on the Members tab at the top. Select the Subscribe to PGR Missions option.\n Print This Page
URL:https://www.patriotguard.org/mission/kenneth-l-ullum/
CATEGORIES:Honor Mission
END:VEVENT
END:VCALENDAR