BEGIN:VCALENDAR
VERSION:2.0
PRODID:-//Patriot Guard Riders - ECPv5.3.2.1//NONSGML v1.0//EN
CALSCALE:GREGORIAN
METHOD:PUBLISH
X-WR-CALNAME:Patriot Guard Riders
X-ORIGINAL-URL:https://www.patriotguard.org
X-WR-CALDESC:Events for Patriot Guard Riders
BEGIN:VTIMEZONE
TZID:America/New_York
BEGIN:DAYLIGHT
TZOFFSETFROM:-0500
TZOFFSETTO:-0400
TZNAME:EDT
DTSTART:20190310T070000
END:DAYLIGHT
BEGIN:STANDARD
TZOFFSETFROM:-0400
TZOFFSETTO:-0500
TZNAME:EST
DTSTART:20191103T060000
END:STANDARD
END:VTIMEZONE
BEGIN:VEVENT
DTSTART;VALUE=DATE:20190906
DTEND;VALUE=DATE:20190907
DTSTAMP:20210401T090111
CREATED:20190905T163312Z
LAST-MODIFIED:20190905T163312Z
UID:172849-1567728000-1567814399@www.patriotguard.org
SUMMARY:Kenneth L. Brown
DESCRIPTION:Honor Mission\nKenneth L. Brown\, Veteran\nUSAF – Vietnam\nDallas\, Texas – 09-06-19\n\n\n\nABOUT THE MISSION: \nMr. Brown enlisted in the United States Air Force on 15 July 1965. He served as an Aircraft Radio Repairman\, achieving the rank of Sergeant prior to his Honorable Discharge on 5 November 1968. Awarded the Good Conduct Medal; National Defense Service Medal; Vietnam Service Medal/ with One Bronze Service Star; Republic of Vietnam Campaign Medal and the Small Arms Expert Marksmanship Ribbon.\n\n\nPRIMARY STAGING DETAILS: 09-06-19 \nStaging Time: 11:30 AM\n \nRestland Cemetery\n13005 Greenville Avenue\nDallas\, Texas 75243\n\n\nRide Captain: \nBill Kushnir\nbpkush@gte.net\n(214) 995-1536\n\n\nSpecial Instructions: \nStarting Time 12:30pm\nStage at the Wildwood Chapel on the grounds of Restland Cemetery to be briefed and to stand tall and silent as family and friends arrive. After the service begins\, flags will be returned to the support vehicle.\nRiders will then be debriefed and dismissed.\nThe family requests PGR Riders serve as pall bearers.\nSgt. Brown will be interred at DFW National Cemetery on Monday\, September 9 at 11:00.\nPart Two of the mission will be posted as soon as it is determined if there will be a procession from Restland to DFW.\n\n\nFlags & Water:\nFlags will be provided\nLarge Bike Flags will NOT be needed.\nWater will be provided.\n\n\n\nSubmitted By: Dan Mathys \nPosition: Texas Ride Captain \n\nNote: You do not have to own/ride a motorcycle or be a veteran to join\, and membership is Free. The only requirement is RESPECT! To subscribe to receive mission notices\, log into the National Site and click on the Members tab at the top. Select the Subscribe to PGR Missions option.\n Print This Page
URL:https://www.patriotguard.org/mission/kenneth-l-brown/
CATEGORIES:Honor Mission
END:VEVENT
END:VCALENDAR