BEGIN:VCALENDAR
VERSION:2.0
PRODID:-//Patriot Guard Riders - ECPv5.3.2.1//NONSGML v1.0//EN
CALSCALE:GREGORIAN
METHOD:PUBLISH
X-WR-CALNAME:Patriot Guard Riders
X-ORIGINAL-URL:https://www.patriotguard.org
X-WR-CALDESC:Events for Patriot Guard Riders
BEGIN:VTIMEZONE
TZID:America/New_York
BEGIN:DAYLIGHT
TZOFFSETFROM:-0500
TZOFFSETTO:-0400
TZNAME:EDT
DTSTART:20170312T070000
END:DAYLIGHT
BEGIN:STANDARD
TZOFFSETFROM:-0400
TZOFFSETTO:-0500
TZNAME:EST
DTSTART:20171105T060000
END:STANDARD
END:VTIMEZONE
BEGIN:VEVENT
DTSTART;TZID=America/New_York:20171107T094500
DTEND;TZID=America/New_York:20171107T114500
DTSTAMP:20210403T034842
CREATED:20171107T144500Z
LAST-MODIFIED:20191201T032554Z
UID:329482-1510047900-1510055100@www.patriotguard.org
SUMMARY:Kenneth Kennedy\, Veteran\, USAF
DESCRIPTION:Kenneth Kennedy\, Veteran\nUSAF\nSt. Louis\, Missouri – 07 Nov 2017\n\n\n[HR][/HR]\nABOUT THE MISSION: \n\nThe family of Kenneth Kennedy has invited  the Patriot Guard to stand a flag line before his funeral service and to  provide an honor escort to Jefferson Barracks National Cemetery  following his service. Mr. Kennedy served in the Air Force from 1972 to  1976 as a Medical Administration Specialist\, and Medical Record Clerk.   He was discharged as a SGT from the USAF Hospital at Whiteman Air Force  Base on 10 May 1976.\n\n\nPRIMARY STAGING DETAILS:  07 Nov 2017\nPrimary Staging Time: 9:45 A.M. \n\nFey Funeral Home\n4100 Lemay Ferry Rd.\nSt. Louis\, Missouri – 63129\n\n\nRide Captain: \n\nDenny Dutchman Eads\nW/Flag support\n314-277-2821\n\n\nSpecial Instructions: \n\nFlag line after ride meeting.\n11:30 Jefferson Barracks.\n\n\nFlags & Water: \n\nFlags Will Be Provided\nIf you have large bike flags\, please bring them.\nWater will be provided.\n\n\nSubmitted By: Denny Eads\nPosition: Ride Captain\n[HR][/HR]Note:\nYou do not have to own/ride a motorcycle or be a Veteran to join and membership is Free. The only requirement is RESPECT! To join\, simply go to www.PatriotGuard.org and click on Register. Membership is Free. \nTo subscribe to receive mission notices\, log into the National Site and click on the Mission Tab at the top. Select the Subscribe to Missions option.
URL:https://www.patriotguard.org/mission/kenneth-kennedy-veteran-usaf/
END:VEVENT
END:VCALENDAR