BEGIN:VCALENDAR
VERSION:2.0
PRODID:-//Patriot Guard Riders - ECPv5.3.2.1//NONSGML v1.0//EN
CALSCALE:GREGORIAN
METHOD:PUBLISH
X-WR-CALNAME:Patriot Guard Riders
X-ORIGINAL-URL:https://www.patriotguard.org
X-WR-CALDESC:Events for Patriot Guard Riders
BEGIN:VTIMEZONE
TZID:America/New_York
BEGIN:DAYLIGHT
TZOFFSETFROM:-0500
TZOFFSETTO:-0400
TZNAME:EDT
DTSTART:20180311T070000
END:DAYLIGHT
BEGIN:STANDARD
TZOFFSETFROM:-0400
TZOFFSETTO:-0500
TZNAME:EST
DTSTART:20181104T060000
END:STANDARD
END:VTIMEZONE
BEGIN:VEVENT
DTSTART;VALUE=DATE:20181110
DTEND;VALUE=DATE:20181111
DTSTAMP:20210401T173656
CREATED:20181106T023900Z
LAST-MODIFIED:20181106T023900Z
UID:139974-1541808000-1541894399@www.patriotguard.org
SUMMARY:Kenneth “Ken” L. Stott\, 78
DESCRIPTION:Honor Mission\nKenneth “Ken” L. Stott\, 78\, Veteran\, PGR\nUSN\nAlbion\, Nebraska – 11-10-18\n\n\n \n\nABOUT THE MISSION: \nThe family of Kenneth “Ken” L. Stott\, 78\, United States Navy\, has requested the Patriot Guard Riders participate in his funeral service.  He passed away on Thursday\, November 1\, 2018 at Faith Regional Health Services in Norfolk\, NE.  Military honors will be conducted at the church by the U.S. Navy Honor Guard\, American Legion Post #162 and V.F.W. Post #736.  Our Hero served our country in the United States Navy during the Korean War era and was an active Nebraska Patriot Guard Rider.\n\n\nPRIMARY STAGING DETAILS: 11-10-18 \nStaging Time: 9:00 A.M.\n \nAlbion Evangelical Free Church\n2485 Old Mill Rd.\nAlbion\, Nebraska 68620\n\n\nRide Captains: \nKimberly Schaefer\nkdschaefer60@gmail.com\n402-779-5003\n\nRoger Imler\nroger.imler@hotmail.com\n308-379-7441\n\n\nSpecial Instructions: \n\n\nRiders meeting: 9:15 A.M.\nFlag line: 9:25 A.M.\nVisitation: 9:30 A.M.\nFuneral service: 10:30 A.M.\n\nVisitation will be 1 hour prior to services at the church.  The PGR will provide a flag line following the funeral service and during military honors.  There will be no graveside service at this time. \n\n\nAssistance transporting flags is requested.  Please contact a Ride Captain if you can help.\n\nSafety being paramount – ride only if conditions permit. The Nebraska Patriot Guard Riders have been recognized by the National Safety Council and the Nebraska Office of Highway Safety for adhering to and promoting motorcycle safety. Ride Alert – Ride Safe.\n\n\nFlags & Water:\nFlags will be provided\nLarge Bike Flags will NOT be needed.\nWater WILL NOT be provided\, please bring your own.\n\n\n  \n\n\nSubmitted By: Scott Knudsen \nPosition: Nebraska State Captain \n\nNote: You do not have to own/ride a motorcycle or be a veteran to join\, and membership is Free. The only requirement is RESPECT! To subscribe to receive mission notices\, log into the National Site and click on the Members tab at the top. Select the Subscribe to PGR Missions option.\n Print This Page
URL:https://www.patriotguard.org/mission/kenneth-ken-l-stott-78/
CATEGORIES:Honor Mission
END:VEVENT
END:VCALENDAR