BEGIN:VCALENDAR
VERSION:2.0
PRODID:-//Patriot Guard Riders - ECPv5.3.2.1//NONSGML v1.0//EN
CALSCALE:GREGORIAN
METHOD:PUBLISH
X-WR-CALNAME:Patriot Guard Riders
X-ORIGINAL-URL:https://www.patriotguard.org
X-WR-CALDESC:Events for Patriot Guard Riders
BEGIN:VTIMEZONE
TZID:America/New_York
BEGIN:DAYLIGHT
TZOFFSETFROM:-0500
TZOFFSETTO:-0400
TZNAME:EDT
DTSTART:20190310T070000
END:DAYLIGHT
BEGIN:STANDARD
TZOFFSETFROM:-0400
TZOFFSETTO:-0500
TZNAME:EST
DTSTART:20191103T060000
END:STANDARD
END:VTIMEZONE
BEGIN:VEVENT
DTSTART;VALUE=DATE:20190405
DTEND;VALUE=DATE:20190406
DTSTAMP:20210401T183508
CREATED:20190404T024427Z
LAST-MODIFIED:20190404T024427Z
UID:155713-1554422400-1554508799@www.patriotguard.org
SUMMARY:Kenneth John Cannata
DESCRIPTION:Honor Mission\nKenneth John Cannata\, Veteran\nUSA – Vietnam\nDallas\, Texas – 04-05-19\n\n\n \n\nABOUT THE MISSION: \nMr. Cannata was a Drill Instructor and a Tank Commander while he served in the US Army.  Obituary\n\n\nPRIMARY STAGING DETAILS: 04-05-19 \nStaging Time: 9:15 AM\n \nDallas-Fort Worth National Cemetery\n2000 Mountain Creek Pkwy\nDallas\, Texas 75211\nMap\n\n\nRide Captain: \nBrian Liberty\nPostmasterLiberty@gmail.com\n(979) 702-9097\n\n\nSpecial Instructions: \nBriefing Time: 9:30 AM\nIn Position/KSU Time: 9:45 AM\nStarting Time: 10:00 AM\nThe family of Kenneth Cannata has asked the North Texas Patriot Guard Riders to honor his memory and service to our country by standing a flag line at his Interment Service.Riders will stage at the Visitor’s Center of DFW National Cemetery. After the mission briefing\, Honor Bikes will be selected\, and they will move to the appropriate staging lane. Remaining riders will proceed to the assigned shelter\, set the flags and await the arrival of Kenneth Cannata\, family and friends. After the service\, flags will be returned to the storage locker and riders will be debriefed and dismissed.\n\nFlags & Water:\nFlags will be provided\nIf you have large bike flags\, please bring them.\nWater WILL NOT be provided\, please bring your own.\n\n\n\nSubmitted By: Laura Weger \nPosition: Texas Mission Control \n\nNote: You do not have to own/ride a motorcycle or be a veteran to join\, and membership is Free. The only requirement is RESPECT! To subscribe to receive mission notices\, log into the National Site and click on the Members tab at the top. Select the Subscribe to PGR Missions option.\n Print This Page
URL:https://www.patriotguard.org/mission/kenneth-john-cannata/
CATEGORIES:Honor Mission
END:VEVENT
END:VCALENDAR