BEGIN:VCALENDAR
VERSION:2.0
PRODID:-//Patriot Guard Riders - ECPv5.3.2.1//NONSGML v1.0//EN
CALSCALE:GREGORIAN
METHOD:PUBLISH
X-WR-CALNAME:Patriot Guard Riders
X-ORIGINAL-URL:https://www.patriotguard.org
X-WR-CALDESC:Events for Patriot Guard Riders
BEGIN:VTIMEZONE
TZID:America/New_York
BEGIN:DAYLIGHT
TZOFFSETFROM:-0500
TZOFFSETTO:-0400
TZNAME:EDT
DTSTART:20140309T070000
END:DAYLIGHT
BEGIN:STANDARD
TZOFFSETFROM:-0400
TZOFFSETTO:-0500
TZNAME:EST
DTSTART:20141102T060000
END:STANDARD
END:VTIMEZONE
BEGIN:VEVENT
DTSTART;TZID=America/New_York:20141219T090000
DTEND;TZID=America/New_York:20141219T110000
DTSTAMP:20210401T180353
CREATED:20141219T140000Z
LAST-MODIFIED:20191201T130905Z
UID:397824-1418979600-1418986800@www.patriotguard.org
SUMMARY:Kenneth Hagg\, 94
DESCRIPTION:[FONT=Arial\, Helvetica\, sans-serif]Mr. Kenneth Hagg\, 94\, former Army Sergeant during WWII with service at Normandy was a hero who served his country honorably and faithfully during a period of War.   Today\, the PGR received a call from his long-time caretaker and friend who asked if we could be at his final service because he had no family left on this earth and very few friends due to his age and she is afraid that no one will be there for him at his last formation.  Can we be there for him\, like he was for the American people several generations ago?  Please join me as we stand and show those in attendance that his service\, so long ago\, mattered and is not forgotten.\n\nThis American hero served across Europe\, including Normandy France and the Rhineland of Germany.  He received many decorations and service medals for his service\, inlcuding the Good Conduct Medal\, American Defense Service Medal\, and the European-Africa-Middle Eastern Campaign Medal.   After his service in WWII he entered into the Navy Inactive Reserve.  He will join his wife\, a former WAC\, in eternal rest at Greenlawn Memorial Park. Let’s stand for him and her on Friday.\n\nMISSION DETAILS: FRIDAY\, 19 DEC 14 (This is a graveside service and flag line only.)\n\nSTAGING LOCATION: Greenlawn Memorial Park\, 845 Leesburg Road\, Columbia\, SC (Meet inside the cemetery near the mausoleum building.)   \n\nMAP:  http://goo.gl/maps/aigtU\n\nSTAGING TIME:  10:15 am\n\nBRIEFING: 10:20 am\n\nWe will establish the flag line at 10:30 for the 11:00 service and hold the flagline throughout the service.  Flags will be provided.\n\nWeather forecast: 0% chance of rain\, High: 60\, Low: 41.\n\nI am honored to serve as RCIC for this WWII Veteran.\n\n\nL.Z. Harrison\, Jr.\nSenior Ride Captain\, SC PGR\n(803) 360-3830  \n[/FONT]
URL:https://www.patriotguard.org/mission/kenneth-hagg-94/
CATEGORIES:Archive
END:VEVENT
END:VCALENDAR