BEGIN:VCALENDAR
VERSION:2.0
PRODID:-//Patriot Guard Riders - ECPv5.6.0//NONSGML v1.0//EN
CALSCALE:GREGORIAN
METHOD:PUBLISH
X-WR-CALNAME:Patriot Guard Riders
X-ORIGINAL-URL:https://www.patriotguard.org
X-WR-CALDESC:Events for Patriot Guard Riders
BEGIN:VTIMEZONE
TZID:America/New_York
BEGIN:DAYLIGHT
TZOFFSETFROM:-0500
TZOFFSETTO:-0400
TZNAME:EDT
DTSTART:20160313T070000
END:DAYLIGHT
BEGIN:STANDARD
TZOFFSETFROM:-0400
TZOFFSETTO:-0500
TZNAME:EST
DTSTART:20161106T060000
END:STANDARD
END:VTIMEZONE
BEGIN:VEVENT
DTSTART;TZID=America/New_York:20160707T090000
DTEND;TZID=America/New_York:20160707T110000
DTSTAMP:20210512T145710
CREATED:20160707T130000Z
LAST-MODIFIED:20191201T144704Z
UID:410923-1467882000-1467889200@www.patriotguard.org
SUMMARY:Kenneth Edward McNeill\, USA
DESCRIPTION:We have been invited to attend the Funeral of Sgt Kenneth Edward McNeill\, Veteran\, US Army Vietnam \nInterment 15:00 (3 pm) 07 Jul at Veterans Memorial Cemetery\n2830 Riverside Parkway\nGrand Junction\, CO \nStage 14:15 (2:15 pm) at Shelter Area \nRide Captain  Bob Werner
URL:https://www.patriotguard.org/mission/kenneth-edward-mcneill-usa/
CATEGORIES:Archive
END:VEVENT
END:VCALENDAR