BEGIN:VCALENDAR
VERSION:2.0
PRODID:-//Patriot Guard Riders - ECPv5.6.0//NONSGML v1.0//EN
CALSCALE:GREGORIAN
METHOD:PUBLISH
X-WR-CALNAME:Patriot Guard Riders
X-ORIGINAL-URL:https://www.patriotguard.org
X-WR-CALDESC:Events for Patriot Guard Riders
BEGIN:VTIMEZONE
TZID:America/New_York
BEGIN:DAYLIGHT
TZOFFSETFROM:-0500
TZOFFSETTO:-0400
TZNAME:EDT
DTSTART:20160313T070000
END:DAYLIGHT
BEGIN:STANDARD
TZOFFSETFROM:-0400
TZOFFSETTO:-0500
TZNAME:EST
DTSTART:20161106T060000
END:STANDARD
END:VTIMEZONE
BEGIN:VEVENT
DTSTART;TZID=America/New_York:20160601T090000
DTEND;TZID=America/New_York:20160601T110000
DTSTAMP:20210513T173447
CREATED:20160601T130000Z
LAST-MODIFIED:20191201T145545Z
UID:411710-1464771600-1464778800@www.patriotguard.org
SUMMARY:Kenneth E. Smith\, 84\, USAF\, Korea / St Charles
DESCRIPTION:Kenneth E. Smith\, 84\nUSAF Korea Veteran\nSt Charles\, Old Alexandria\, MO\n01 JUN 16\n\n\n\nThe family of Kenneth “Ken” Smith has honored the Patriot Guard by requesting our presence at the celebration of life and escort to their loved ones final resting place. \nMr. Smith served our great nation in the Air Force during the Korean War earning the rank of Staff Sergeant along with numerous other awards and decorations. \nStaging:\n1045 AM Wednesday June 1\nBaue Funeral Center and Memorial Gardens\n3950 West Clay St.\nSt. Charles Mo. 63301 \nEscort to Old Alexandria Cemetery \, Old Alexandria Mo. following services ..30 miles\, all paved roads. \nSRC Robert Smith\nbobsmithesq4@gmail.com \nFlag Support\nChief Boo Vanderbough \nWeather projected to be 60-75* with possibility of showers. Dress wisely .. HYDRATE   HYDRATE   HYDRATE
URL:https://www.patriotguard.org/mission/kenneth-e-smith-84-usaf-korea-st-charles/
CATEGORIES:Archive
END:VEVENT
END:VCALENDAR