BEGIN:VCALENDAR
VERSION:2.0
PRODID:-//Patriot Guard Riders - ECPv5.6.0//NONSGML v1.0//EN
CALSCALE:GREGORIAN
METHOD:PUBLISH
X-WR-CALNAME:Patriot Guard Riders
X-ORIGINAL-URL:https://www.patriotguard.org
X-WR-CALDESC:Events for Patriot Guard Riders
BEGIN:VTIMEZONE
TZID:America/New_York
BEGIN:DAYLIGHT
TZOFFSETFROM:-0500
TZOFFSETTO:-0400
TZNAME:EDT
DTSTART:20150308T070000
END:DAYLIGHT
BEGIN:STANDARD
TZOFFSETFROM:-0400
TZOFFSETTO:-0500
TZNAME:EST
DTSTART:20151101T060000
END:STANDARD
END:VTIMEZONE
BEGIN:VEVENT
DTSTART;TZID=America/New_York:20150327T090000
DTEND;TZID=America/New_York:20150327T110000
DTSTAMP:20210513T221512
CREATED:20150327T130000Z
LAST-MODIFIED:20191201T125859Z
UID:396031-1427446800-1427454000@www.patriotguard.org
SUMMARY:Kenneth D. Walters\, USN
DESCRIPTION:[TABLE]\n[TR]\n[TD=”align: left”] \n\nKenneth D. Walters\nUS NAVY\, KOREAN WAR\nGrundy Center\, Iowa\nMarch 27\, 2015 \n\n\nThe Patriot Guard Riders have been invited by the family of Kenneth D. Walters\, US Navy Veteran of the Korean War\, to participate in honoring his service to this Great Nation at his Funeral  Services to be held on Friday\, March 27th\, 2015. Kenneth served aboard the USS Toledo as a deck hand and was awarded the National Defense Service medal\, the Good Conduct Medal and the Korean Service Medal. Kenneth is the Father in law of Iowa PGR Member\, Dean Shuey. \n\nFUNERAL SERVICE: 10:30 AM\, Friday\, March 27\, 2015 \nRALLY POINT: Bethany Presbyterian Church\, 315 G Ave\, Grundy Center\, https://goo.gl/maps/lZmRy \nRALLY TIME:  8:45 AM \nMISSION BRIEF:  9:15 AM (Immediately establish flag line for Funeral Services) \nBurial: Rose Hill Cemetery\, https://goo.gl/maps/KD7rY \n\n[/TD]\n[/TR]\n[/TABLE]\n[TABLE]\n[TR]\n[TD=”align: center”] \n\nRide Captain: \n\nRick Claassen\n(319) 230-9740\nhfd650@yahoo.com \n\nPosted by:\nScott Rathjens\nSRC\, NE IOWA \n\n[/TD]\n[/TR]\n[/TABLE]
URL:https://www.patriotguard.org/mission/kenneth-d-walters-usn/
CATEGORIES:Archive
END:VEVENT
END:VCALENDAR