BEGIN:VCALENDAR
VERSION:2.0
PRODID:-//Patriot Guard Riders - ECPv5.6.0//NONSGML v1.0//EN
CALSCALE:GREGORIAN
METHOD:PUBLISH
X-WR-CALNAME:Patriot Guard Riders
X-ORIGINAL-URL:https://www.patriotguard.org
X-WR-CALDESC:Events for Patriot Guard Riders
BEGIN:VTIMEZONE
TZID:America/New_York
BEGIN:DAYLIGHT
TZOFFSETFROM:-0500
TZOFFSETTO:-0400
TZNAME:EDT
DTSTART:20210314T070000
END:DAYLIGHT
BEGIN:STANDARD
TZOFFSETFROM:-0400
TZOFFSETTO:-0500
TZNAME:EST
DTSTART:20211107T060000
END:STANDARD
END:VTIMEZONE
BEGIN:VEVENT
DTSTART;VALUE=DATE:20210512
DTEND;VALUE=DATE:20210513
DTSTAMP:20210513T033843
CREATED:20210511T161430Z
LAST-MODIFIED:20210511T161430Z
UID:576984-1620777600-1620863999@www.patriotguard.org
SUMMARY:Kenneth C. Vaught
DESCRIPTION:Honor Mission\nKenneth C. Vaught\nUSA -\, Vietnam\nSt. Louis\, Missouri – 05-12-21\n\n\n\nABOUT THE MISSION: \nLadies and gentlemen of the Patriot Guard\, please join us in standing for Kenneth Vaught\, just as he once stood for every one of us. Veteran Vaught proudly served in the United States Army from 1967 until 1969\, attaining the rank of E-3 and was awarded the National Defense Service Medal\, Vietnam Service Medal\, Vietnam Campaign Medal\, 2 Overseas Bars\, Good Conduct Medal and the Expert Rifle Badge (M-14).  Ken was a life member of the VFW\, a member of the NRA and previously served as an EMT and a volunteer firefighter in Fair Grove\, Missouri.  Thank you Mr. Vaught\, from a grateful nation. Your faithful dedication to serve the United States of America is appreciated\, and will never be forgotten.\n\n\nPRIMARY STAGING DETAILS: 05-12-21 \nStaging Time: 1:00 pm\n \nJefferson Barracks National Cemetery\n2900 Sheridan Road\nSt. Louis\, Missouri 63125\n\n\nRide Captain: \nJeff ‘Tattoo’ Hirsch\njeff.stlpgr@gmail.com\nMark “Cobra” Birmingham\n\n\nSpecial Instructions: \n1:00 PM – Staging followed by a ride meeting.\n1:15 PM – Welcome Hero Vaught\, along with his family and friends\n1:30 PM – Military Honors\nFlags / Support – TBD.\nMasks are required at JBNC\n\nFlags & Water:\nFlags will be provided\nIf you have large bike flags\, please bring them.\nWater will be provided.\n\n\n\n\nSubmitted By: Jeff Hirsch \nPosition: Missouri Ride Captain \n\nNote: You do not have to own/ride a motorcycle or be a veteran to join\, and membership is Free. The only requirement is RESPECT! To subscribe to receive mission notices\, log into the National Site and click on the Members tab at the top. Select the Subscribe to PGR Missions option.\n Print This Page
URL:https://www.patriotguard.org/mission/kenneth-c-vaught/
CATEGORIES:Honor Mission
END:VEVENT
END:VCALENDAR