BEGIN:VCALENDAR
VERSION:2.0
PRODID:-//Patriot Guard Riders - ECPv5.3.2.1//NONSGML v1.0//EN
CALSCALE:GREGORIAN
METHOD:PUBLISH
X-WR-CALNAME:Patriot Guard Riders
X-ORIGINAL-URL:https://www.patriotguard.org
X-WR-CALDESC:Events for Patriot Guard Riders
BEGIN:VTIMEZONE
TZID:America/New_York
BEGIN:DAYLIGHT
TZOFFSETFROM:-0500
TZOFFSETTO:-0400
TZNAME:EDT
DTSTART:20190310T070000
END:DAYLIGHT
BEGIN:STANDARD
TZOFFSETFROM:-0400
TZOFFSETTO:-0500
TZNAME:EST
DTSTART:20191103T060000
END:STANDARD
END:VTIMEZONE
BEGIN:VEVENT
DTSTART;VALUE=DATE:20190710
DTEND;VALUE=DATE:20190711
DTSTAMP:20210404T042847
CREATED:20190709T022128Z
LAST-MODIFIED:20190709T022128Z
UID:167051-1562716800-1562803199@www.patriotguard.org
SUMMARY:Kenneth Aman
DESCRIPTION:Honor Mission\nKenneth Aman\, Retired\, Veteran\nUSAF –\nRoosevelt\, Utah – 07-10-19\n\n\n\nABOUT THE MISSION: \nThe Patriot Guard Riders have been requested to stand a flag line for Kenneth Aman. Kenneth Aman served in the U.S. Air Force. This will be a veteran’s format. The service will be at the LDS church on 3750 N 37900 W in Tabiona at 12:00 PM. We will stand a flag line at the church and then escort Kenneth Aman to his final resting place in the Tabiona-Redcliff Cemetery on 5050 N Tabby Ln in Tabiona\, where we will stand another flag line.Thank you\, Kenneth Aman\, for your service.\nAnyone attending in a cage and willing to transport flags please contact Bruce Anderson at: 435-722-7581.\n\n\nPRIMARY STAGING DETAILS: 07-10-19 \nStaging Time: 11:00 AM\n \nChevron\n500 E 200 N\nRoosevelt\, Utah\n\n\nRide Captain: \nBruce Anderson\n435-722-7581\n\n\nSpecial Instructions: \nKSU: 11:15 AM\nWeather: Sunny with a high of 93.\nPlease dress accordingly and keep yourself hydrated.\n\n\nFlags & Water:\nFlags will be provided\nIf you have large bike flags\, please bring them.\nWater WILL NOT be provided\, please bring your own.\n\n\n\nSubmitted By: Dave Richardson \nPosition: Utah State Captain \n\nNote: You do not have to own/ride a motorcycle or be a veteran to join\, and membership is Free. The only requirement is RESPECT! To subscribe to receive mission notices\, log into the National Site and click on the Members tab at the top. Select the Subscribe to PGR Missions option.\n Print This Page
URL:https://www.patriotguard.org/mission/kenneth-aman/
CATEGORIES:Honor Mission
END:VEVENT
END:VCALENDAR