BEGIN:VCALENDAR
VERSION:2.0
PRODID:-//Patriot Guard Riders - ECPv5.3.2.1//NONSGML v1.0//EN
CALSCALE:GREGORIAN
METHOD:PUBLISH
X-WR-CALNAME:Patriot Guard Riders
X-ORIGINAL-URL:https://www.patriotguard.org
X-WR-CALDESC:Events for Patriot Guard Riders
BEGIN:VTIMEZONE
TZID:America/New_York
BEGIN:DAYLIGHT
TZOFFSETFROM:-0500
TZOFFSETTO:-0400
TZNAME:EDT
DTSTART:20190310T070000
END:DAYLIGHT
BEGIN:STANDARD
TZOFFSETFROM:-0400
TZOFFSETTO:-0500
TZNAME:EST
DTSTART:20191103T060000
END:STANDARD
END:VTIMEZONE
BEGIN:VEVENT
DTSTART;VALUE=DATE:20190718
DTEND;VALUE=DATE:20190719
DTSTAMP:20210404T053029
CREATED:20190717T144650Z
LAST-MODIFIED:20190717T144650Z
UID:167951-1563408000-1563494399@www.patriotguard.org
SUMMARY:Karl Anderson Miller
DESCRIPTION:Honor Mission\nKarl Anderson Miller\, Veteran\nUSN – GW/ODS\nSpanish Fort\, Alabama – 07-18-19\n\n\n\nABOUT THE MISSION: \nFellow Riders\, America has lost another True American HERO. Karl Anderson Miller\, an indigent veteran\, served in the US Navy in the Persian Gulf. Awards and commendations include USN Service Deployment Ribbon\, Meritorious Unit Commendation Ribbon\, Navy-Marine Corps Expeditionary Medal (Persian Gulf)\, and an Honorable Discharge. It shall be our honor to ESCORT the hearse and stand a silent flag line at his ASVMC committal service at 2:30 p.m. Mr. Miller stood many a hard day and night so that we might be safe and free. Now it is our turn to stand and honor him for his service and sacrifice. Ride safely!\n\n\nPRIMARY STAGING DETAILS: 07-18-19 \nStaging Time: 1:30 PM\n \nRouse’s (formerly Old Dollar Gen’l) parking lot\nIntersection of Hwy 31 & 225\nSpanish Fort\, Alabama 36527\n\n\nRide Captain: \nGreg Selman\ngbselman@hotmail.com\n(251) 490-9791\n\n\nSpecial Instructions: \nBriefing: 1:45 p.m.\nHearse Arrival: +/- 2:00 p.m.\nKSU: As soon as procession arrives.\nCommittal: 2:30 p.m.\nHonor Guard – Yes.\nFlags and Support: Committal Storeroom.\nWeather: 92 degrees / Mostly Sunny. Stay Hydrated!\n\n\nFlags & Water:\nFlags will be provided\nIf you have large bike flags\, please bring them.\nWater WILL NOT be provided\, please bring your own.\n\n\n\nSubmitted By: Lloyd Pursley \nPosition: Alabama Ride Captain \n\nNote: You do not have to own/ride a motorcycle or be a veteran to join\, and membership is Free. The only requirement is RESPECT! To subscribe to receive mission notices\, log into the National Site and click on the Members tab at the top. Select the Subscribe to PGR Missions option.\n Print This Page
URL:https://www.patriotguard.org/mission/karl-anderson-miller/
CATEGORIES:Honor Mission
END:VEVENT
END:VCALENDAR