BEGIN:VCALENDAR
VERSION:2.0
PRODID:-//Patriot Guard Riders - ECPv5.3.2.1//NONSGML v1.0//EN
CALSCALE:GREGORIAN
METHOD:PUBLISH
X-WR-CALNAME:Patriot Guard Riders
X-ORIGINAL-URL:https://www.patriotguard.org
X-WR-CALDESC:Events for Patriot Guard Riders
BEGIN:VTIMEZONE
TZID:America/New_York
BEGIN:DAYLIGHT
TZOFFSETFROM:-0500
TZOFFSETTO:-0400
TZNAME:EDT
DTSTART:20190310T070000
END:DAYLIGHT
BEGIN:STANDARD
TZOFFSETFROM:-0400
TZOFFSETTO:-0500
TZNAME:EST
DTSTART:20191103T060000
END:STANDARD
END:VTIMEZONE
BEGIN:VEVENT
DTSTART;VALUE=DATE:20190601
DTEND;VALUE=DATE:20190602
DTSTAMP:20210405T135612
CREATED:20190530T104628Z
LAST-MODIFIED:20190530T104628Z
UID:162363-1559347200-1559433599@www.patriotguard.org
SUMMARY:K-9 Kira
DESCRIPTION:Memorial Mission\nK-9 Kira\nUSA –\nSouth Lyon\, Michigan – 06-01-19\n\n\n\n\nABOUT THE MISSION: \nThe Patriot Guard Riders have been invited to stand in Honor of fallen United States Army K-9 Kira. K-9 Kira severed 2 Tours in Afghanistan as an IED detection dog.\n\n\nPRIMARY STAGING DETAILS: 06-01-19 \nStaging Time: 10:45 a.m.\n \nMichigan War Dog Memorial\n25805 Milford Rd.\nSouth Lyon\, Michigan 48178\nMap\n\n\nRide Captain: \nBOZ\, (586) 899-0518\n\n\nSpecial Instructions: \nBriefing: 11:15 am\nFlag Line:  following briefing\nService starts at noon.  Please park on sidewalk east side of driveway entering Memorial Parking Lot.  Do not park in the parking lot that is reserved for vehicles and Handicap cars.\nPlease bring your 3′ x 5′ American flag to stand in honor for K-9 Kira.\n\n\nFlags & Water:\nFlags will not be provided\nLarge Bike Flags will NOT be needed.\nWater WILL NOT be provided\, please bring your own.\n\n\nSubmitted By: Terrence Laurencelle \nPosition: Michigan Ride Captain \n\nNote: You do not have to own/ride a motorcycle or be a veteran to join\, and membership is Free. The only requirement is RESPECT! To subscribe to receive mission notices\, log into the National Site and click on the Members tab at the top. Select the Subscribe to PGR Missions option.\n Print This Page
URL:https://www.patriotguard.org/mission/k-9-kira/
CATEGORIES:Memorial
END:VEVENT
END:VCALENDAR