BEGIN:VCALENDAR
VERSION:2.0
PRODID:-//Patriot Guard Riders - ECPv5.3.2.1//NONSGML v1.0//EN
CALSCALE:GREGORIAN
METHOD:PUBLISH
X-WR-CALNAME:Patriot Guard Riders
X-ORIGINAL-URL:https://www.patriotguard.org
X-WR-CALDESC:Events for Patriot Guard Riders
BEGIN:VTIMEZONE
TZID:America/New_York
BEGIN:DAYLIGHT
TZOFFSETFROM:-0500
TZOFFSETTO:-0400
TZNAME:EDT
DTSTART:20190310T070000
END:DAYLIGHT
BEGIN:STANDARD
TZOFFSETFROM:-0400
TZOFFSETTO:-0500
TZNAME:EST
DTSTART:20191103T060000
END:STANDARD
END:VTIMEZONE
BEGIN:VEVENT
DTSTART;VALUE=DATE:20190803
DTEND;VALUE=DATE:20190804
DTSTAMP:20210402T195630
CREATED:20190727T055010Z
LAST-MODIFIED:20190728T020102Z
UID:168625-1564790400-1564876799@www.patriotguard.org
SUMMARY:Justin Hendrickson HFOT Key Ceremony
DESCRIPTION:HOTH Mission\nJustin Hendrickson HFOT Key Ceremony\, Retired\nUSN – GW/ODS\nRochester\, Pennsylvania – 08-03-19\n\n\n\nABOUT THE MISSION: \nThe Patriot Guard Riders have been invited by Homes For Our Troops\, to escort then stand in honor for the Key Ceremony for Petty Officer Justin Hendrickson.  In 2001\, Justin enlisted the U.S. Navy and became a Hospital Corpsman during Operation Iraqi Freedom deploying to Afghanistan in 2004 with 1st BN 6 Marines. In 2005\, Justin deployed to Iraq to relieve one of the Marine Rifle Companies shortly after the Battle of Fallujah.   On 6 May 2005\, while deployed to Iraq with the 3rd BN\, 8th Marines\, Justin and his unit were conducting a resupply mission in Al Anbar Province Justin and his unit went under attack then was struck by an IED.  Justin received the Purple Heart\,Navy and Marine Corps Commendation Medal with Combat V Device\,Navy and Marine Corps Achievement Medal\,Combat Action Ribbon\,Navy Unit Commendation Medal\,Good Conduct Medal\,National Defense Service Medal\,Afghanistan Campaign Medal\,Iraq Campaign Medal\,Global War On Terror Expeditionary Medal\,Global War On Terror Service Medal\,Korea Defense Service Medal and the Armed Forces Expeditionary Medal.  Following time served\, Justin wanted to continue working in the medical field.  Justin earned Bachelors of Nursing and is currently preparing to graduate with his Master’s Degree in Nursing Education and Leadership\, along with teaching college courses.\nHomes For Our Troops selected Justin and built a home with an open floor plan that will give Justin the freedom to access every room easily so\, please join us to escort then stand for our American Hero\, Justin Hendrickson and his family for the Key Ceremony to their specially custom forever home.\n\n\nPRIMARY STAGING DETAILS: 08-03-19 \nStaging Time: 07:30  \nOptional Staging:\nAmerican Legion Post#512\n1341 PA-68\nRochester\, Pennsylvania 15074\nMAP\n\n\nRide Captain: \nRandy Ruff\nrandyaruff@gmail.com\n(412) 613-2109\nDave Filipek\n03blkstar@gmail.com\n(724) 931-5601\n\n\nSpecial Instructions: \nKSU: 7:45 AM\n\nFlags & Water:\nFlags will not be provided\nLarge Bike Flags will NOT be needed.\nWater WILL NOT be provided\, please bring your own.\n\nSTAGING #2 DETAILS: 08-03-19 \nStaging Time: 09:00  \nCountry Fair #44\n79 PA-208 Exit 113\nGrove City\, Pennsylvania 16127\nMAP\n\n\nRide Captain: \nRandy Ruff\nrandyaruff@gmail.com\n(412) 613-2109\nDave Filipek\n03blkstar@gmail.com\n(724) 931-5601\n\n\nSpecial Instructions: \nBriefing: 9:15 AM\nKSU: 9:30 AM\nEscort & Key Ceremony at 10:00 AM\n\nMembers can attend all of a mission or any part of the mission. PGR sets no time for a member to stand a mission. We Thank you for whatever time you give us and the families of our heroes appreciate your time.  Deer are on the move\, please be aware & alert of your surroundings.  Also before heading out\, please watch the weather; dress accordingly and hydrate.\n\nFlags & Water:\nFlags will not be provided\nLarge Bike Flags will NOT be needed.\nWater WILL NOT be provided\, please bring your own.\n\n\n  \n\n\nSubmitted By: Marcy Sorensen \nPosition: Pennsylvania Ride Captain \n\nNote: You do not have to own/ride a motorcycle or be a veteran to join\, and membership is Free. The only requirement is RESPECT! To subscribe to receive mission notices\, log into the National Site and click on the Members tab at the top. Select the Subscribe to PGR Missions option.\n Print This Page
URL:https://www.patriotguard.org/mission/justin-hendrickson-hfot-key-ceremony/
CATEGORIES:HOTH Mission
END:VEVENT
END:VCALENDAR