BEGIN:VCALENDAR
VERSION:2.0
PRODID:-//Patriot Guard Riders - ECPv5.3.2.1//NONSGML v1.0//EN
CALSCALE:GREGORIAN
METHOD:PUBLISH
X-WR-CALNAME:Patriot Guard Riders
X-ORIGINAL-URL:https://www.patriotguard.org
X-WR-CALDESC:Events for Patriot Guard Riders
BEGIN:VTIMEZONE
TZID:America/New_York
BEGIN:DAYLIGHT
TZOFFSETFROM:-0500
TZOFFSETTO:-0400
TZNAME:EDT
DTSTART:20190310T070000
END:DAYLIGHT
BEGIN:STANDARD
TZOFFSETFROM:-0400
TZOFFSETTO:-0500
TZNAME:EST
DTSTART:20191103T060000
END:STANDARD
END:VTIMEZONE
BEGIN:VEVENT
DTSTART;VALUE=DATE:20190522
DTEND;VALUE=DATE:20190523
DTSTAMP:20210403T003412
CREATED:20190521T151923Z
LAST-MODIFIED:20190521T151923Z
UID:161943-1558483200-1558569599@www.patriotguard.org
SUMMARY:Julio R. Olaga
DESCRIPTION:Honor Mission\nJulio R. Olaga\, Veteran\nUSA\, USAR –\nLemoore\, California – 05-22-19\n\n\n\nABOUT THE MISSION: \nJulio Olague was born 7/30/32. He was a U.S Army Rifleman with Co. F16 Infantry Regiment. He entered into eternal rest on 5/4/19 at the age of 86 years. He was born and raised in Lemoore\, CA. He loved to work and watch the Dodgers. He also loved his dogs. He was a caring and loving family man whose family always came before him.\n\n\nPRIMARY STAGING DETAILS: 05-22-19 \nStaging Time: 09:15 AM\n \nSaint Peters Church in Lemoore\n870 N. Lemoore (18th) Ave.\nLemoore\, California 93245\nMap\n\n\nRide Captain: \nAdam Garcia\nagarcia696709@gmail.com\n\n\nSpecial Instructions: \nPlease plan to arrive in time to have lines of respect in place by 9:30 AM.\nAfter the church service\, we will accompany the Hero and his loved ones to a local cemetery for final honors.\n\n\nFlags & Water:\nFlags will not be provided\nIf you have large bike flags\, please bring them.\nWater WILL NOT be provided\, please bring your own.\n\n\n\nSubmitted By: Robert Firestine \nPosition: California Assistant State Captain \n\nNote: You do not have to own/ride a motorcycle or be a veteran to join\, and membership is Free. The only requirement is RESPECT! To subscribe to receive mission notices\, log into the National Site and click on the Members tab at the top. Select the Subscribe to PGR Missions option.\n Print This Page
URL:https://www.patriotguard.org/mission/julio-r-olaga/
CATEGORIES:Honor Mission
END:VEVENT
END:VCALENDAR