BEGIN:VCALENDAR
VERSION:2.0
PRODID:-//Patriot Guard Riders - ECPv5.6.0//NONSGML v1.0//EN
CALSCALE:GREGORIAN
METHOD:PUBLISH
X-WR-CALNAME:Patriot Guard Riders
X-ORIGINAL-URL:https://www.patriotguard.org
X-WR-CALDESC:Events for Patriot Guard Riders
BEGIN:VTIMEZONE
TZID:America/New_York
BEGIN:DAYLIGHT
TZOFFSETFROM:-0500
TZOFFSETTO:-0400
TZNAME:EDT
DTSTART:20160313T070000
END:DAYLIGHT
BEGIN:STANDARD
TZOFFSETFROM:-0400
TZOFFSETTO:-0500
TZNAME:EST
DTSTART:20161106T060000
END:STANDARD
END:VTIMEZONE
BEGIN:VEVENT
DTSTART;TZID=America/New_York:20160827T090000
DTEND;TZID=America/New_York:20160827T110000
DTSTAMP:20210511T194738
CREATED:20160827T130000Z
LAST-MODIFIED:20191201T143308Z
UID:409635-1472288400-1472295600@www.patriotguard.org
SUMMARY:Julio Casarez\, USA
DESCRIPTION:SGT Julio Casarez\nUS Army Vietnam Veteran\n\n\n\nThe Patriot Guard Riders have been requested to stand a flag line for Sgt. Julio Casarez. \nSGT Julio Casarez served in the U.S. Army during the Vietnam War. During his service SGT Julio Casarez earned a Purple Heart. \nThis will be a Veterans format. \nThe service will be at 11:00 AM on Saturday\, August 27\, 2016.\nSt Henry’s Catholic Church\n380 S 200 E\nBrigham City\, UT \nWe will stand a flag line at the mortuary and then escort SGT Julio Casarez to his final resting place in:\nBrigham City Cemetery\n300 E 300 S\nBrigham City\, UT where we will stand another flag line. \nThe ride captain for this mission will be Robert Quick and he can be reached at: 435-225-4387. \nStaging 11:00 AM at: \nShopko\n747 S Main St\nBrigham City\, UT \nKSU: 11:30 AM \nWeather: Sunny with a high of 85. Please dress accordingly and keep yourself hydrated. \nThank you\, Sgt. Julio Casarez\, for your service. \nAnyone attending in a cage and willing to transport flags please contact Robert Quick at: 435-225-4387.
URL:https://www.patriotguard.org/mission/julio-casarez-usa/
CATEGORIES:Archive
END:VEVENT
END:VCALENDAR