BEGIN:VCALENDAR
VERSION:2.0
PRODID:-//Patriot Guard Riders - ECPv5.3.2.1//NONSGML v1.0//EN
CALSCALE:GREGORIAN
METHOD:PUBLISH
X-WR-CALNAME:Patriot Guard Riders
X-ORIGINAL-URL:https://www.patriotguard.org
X-WR-CALDESC:Events for Patriot Guard Riders
BEGIN:VTIMEZONE
TZID:America/New_York
BEGIN:DAYLIGHT
TZOFFSETFROM:-0500
TZOFFSETTO:-0400
TZNAME:EDT
DTSTART:20170312T070000
END:DAYLIGHT
BEGIN:STANDARD
TZOFFSETFROM:-0400
TZOFFSETTO:-0500
TZNAME:EST
DTSTART:20171105T060000
END:STANDARD
END:VTIMEZONE
BEGIN:VEVENT
DTSTART;TZID=America/New_York:20170529T123000
DTEND;TZID=America/New_York:20170529T143000
DTSTAMP:20210404T144111
CREATED:20170529T163000Z
LAST-MODIFIED:20191201T034433Z
UID:342215-1496061000-1496068200@www.patriotguard.org
SUMMARY:Joshua Charles Brennan\, KIA\, USA - WoT
DESCRIPTION:US Army Sgt Joshua Charles Brennan\, KIA \nUSA – WoT \nPhilomath\, Oregon – 29 May 2017\n\n[HR][/HR]\nABOUT THE MISSION: \nWe have been invited by Gold Star Mother Janice Page to participate in a Memorial/Open House for her son US Army Sergeant Joshua Charles Brennan. Joshua was killed in 2007 in Afghanistan when his squad was ambushed. Please join us as we help support his family\, pay our respects\, and honor his service to our nation. \n\nPRIMARY STAGING DETAILS: 29 May 2017 \n \nPrimary Staging Time: 12:30 P.M.\n\nPhilomath Post Office\nCorvallis-Newport Hwy (US 20)\n\nPhilomath\, Oregon – 97370\n\n\n\n \nRide Captain:\n\nMartin Deforest\nmsdeforest@earthlink.net\n\n \nSpecial Instructions:\n\nBriefing: 12:35 PM\nKSU: 12:40 PM (short ride to memorial location)\nFlag Line Set: 12:50 PM\nMemorial / Open House: 1:00 – 4:00 pm\nDismissal: RC’s discretion\n\n \nFlags & Water:\n\nFlags Will NOT Be Provided\, Please Bring Your Own.\n\nIf you have large bike flags\, please bring them.\n\nWater WILL NOT be provided\, please bring your own.\n\n\nSubmitted By: John Hanan II\nPosition: State Captain \n[HR][/HR]\nNote:\nYou do not have to own/ride a motorcycle or be a Veteran to join and membership is Free. The only requirement is RESPECT! To join\, simply go to www.PatriotGuard.org and click on Register. Membership is Free. \nTo subscribe to receive mission notices\, log into the National Site and click on the Mission Tab at the top. Select Upcoming Missions by State. Scroll to the state(s) you would like to receive notices for and click on the green check mark. Detailed instructions are also located in the FAQs on the site by clicking on the Quick Links Tab and selecting FAQs.
URL:https://www.patriotguard.org/mission/joshua-charles-brennan-kia-usa-wot/
LOCATION:Steve Stohl
END:VEVENT
END:VCALENDAR