BEGIN:VCALENDAR
VERSION:2.0
PRODID:-//Patriot Guard Riders - ECPv5.3.2.1//NONSGML v1.0//EN
CALSCALE:GREGORIAN
METHOD:PUBLISH
X-WR-CALNAME:Patriot Guard Riders
X-ORIGINAL-URL:https://www.patriotguard.org
X-WR-CALDESC:Events for Patriot Guard Riders
BEGIN:VTIMEZONE
TZID:America/New_York
BEGIN:DAYLIGHT
TZOFFSETFROM:-0500
TZOFFSETTO:-0400
TZNAME:EDT
DTSTART:20190310T070000
END:DAYLIGHT
BEGIN:STANDARD
TZOFFSETFROM:-0400
TZOFFSETTO:-0500
TZNAME:EST
DTSTART:20191103T060000
END:STANDARD
END:VTIMEZONE
BEGIN:VEVENT
DTSTART;VALUE=DATE:20190104
DTEND;VALUE=DATE:20190105
DTSTAMP:20210404T102549
CREATED:20181230T190148Z
LAST-MODIFIED:20181230T190148Z
UID:146020-1546560000-1546646399@www.patriotguard.org
SUMMARY:Joseph W. Eppich
DESCRIPTION:Honor Mission\nJoseph W. Eppich\, Veteran\nUSN\nNorwood\, Massachusetts – 01-04-19\n\n\n\n\nABOUT THE MISSION: \nThe family of US Navy veteran Joseph Eppich\, 72\, has requested our presence at the funeral of their loved one.  Joseph served our country proudly as a jet mechanic in the US Navy from 1964 – 1968.  He was stationed in Okinawa among other assignments.\nAt: Kraw-Kornack Funeral Home\, 1248 Washington St. Norwood\, MA 02062\n\n\nPRIMARY STAGING DETAILS: 01-04-19 \nStaging Time: 8:00 a.m.  \nNorwood Plaza\n134 Nahatan St.\nNorwood\, Massachusetts 02062\n\n\nRide Captain: \nHoward Shrut\, hshrut@rcn.com\n\n\nSpecial Instructions: \nPlease park near the Bank of America kiosk.  Park in the spots nearest the street\, facing out.  Walk across the street to the Dunkin’ Donuts.\nBriefing/KSU: 9:00 am.\nInterment to follow at: Highland Cemetery\, 320 Winter Street\, Norwood\, MA 02062\n\n\nFlags & Water:\nFlags will be provided\nLarge Bike Flags will NOT be needed.\nWater WILL NOT be provided\, please bring your own.\n\n\nSubmitted By: Howard Shrut \nPosition: Massachusetts State Captain \n\nNote: You do not have to own/ride a motorcycle or be a veteran to join\, and membership is Free. The only requirement is RESPECT! To subscribe to receive mission notices\, log into the National Site and click on the Members tab at the top. Select the Subscribe to PGR Missions option.\n Print This Page
URL:https://www.patriotguard.org/mission/joseph-w-eppich/
CATEGORIES:Honor Mission
END:VEVENT
END:VCALENDAR