BEGIN:VCALENDAR
VERSION:2.0
PRODID:-//Patriot Guard Riders - ECPv5.3.2.1//NONSGML v1.0//EN
CALSCALE:GREGORIAN
METHOD:PUBLISH
X-WR-CALNAME:Patriot Guard Riders
X-ORIGINAL-URL:https://www.patriotguard.org
X-WR-CALDESC:Events for Patriot Guard Riders
BEGIN:VTIMEZONE
TZID:America/New_York
BEGIN:DAYLIGHT
TZOFFSETFROM:-0500
TZOFFSETTO:-0400
TZNAME:EDT
DTSTART:20160313T070000
END:DAYLIGHT
BEGIN:STANDARD
TZOFFSETFROM:-0400
TZOFFSETTO:-0500
TZNAME:EST
DTSTART:20161106T060000
END:STANDARD
END:VTIMEZONE
BEGIN:VEVENT
DTSTART;TZID=America/New_York:20160912T090000
DTEND;TZID=America/New_York:20160912T110000
DTSTAMP:20210401T224828
CREATED:20160912T130000Z
LAST-MODIFIED:20191201T142939Z
UID:409315-1473670800-1473678000@www.patriotguard.org
SUMMARY:Joseph W. Costello
DESCRIPTION:Joseph W. Costello\, MD\nUS Air Force Veteran\nMonday\, 12 September 2016\n\n\n\nThe Patriot Guard Riders are honored to be requested by the family of Colonel Joseph William Costello\, MD\, a USAF Veteran\, to escort him and his family and friends to his final resting place.  Colonel Costello died 2 September 2016\, after an extended illness. \nDr. Joseph W. Costello was born in New Rochelle\, NY and was graduate of Cornell Medical School.  He was a Fellow of the American College of Obstetrics and Gynecology and the American College of Surgeons.  After a year of active Duty as a Medical Officer in the USAF\, Dr. Costello was associated with Providence Hospital for over thirty years\, and was a Clinical Assistant Professor\, Dept. of OB/GYN at Georgetown University Hospital.  He is survived by his wife\, Nora Dougherty Costello and a large and loving family who will miss him. \nChurch services will be held at\nSt. John the Baptist Catholic Church\n12319 New Hampshire Avenue\nSilver Spring\, MD. \nInterment will be in\nGate of Heaven Cemetery\n13801 Georgia Avenue\nSilver Spring\, MD. \nWe will render honors at each location. \nService:  12 September 2016 \n0930 Hrs. Stage at St. John the Baptist Church\, 12319 New Hampshire Ave.\, Silver Spring\, MD. \n0945 Hrs. Brief \n1000 Hrs. Render Honors via Flag Line as mourners arrive at Church\, and again via hand salute as casket is transferred to hearse. \n1200 Hrs. (Time Approximate) KSU\, Escort Colonel Costello to his final resting place at Gate of Heaven Cemetery. \nBring large 3X5 flag for flag line Honors.\nBring something cold to drink to stay hydrated.  Weather forecasts indicate HOT WEATHER\, temperature in the upper 90’s. \nRide Captain:\nBill Johnston\n410-507-9176 \nr/\nBruce Robocop Gentile\nState Captain\n301-542-6707\nstatecaptain@mdpatriotguard.org
URL:https://www.patriotguard.org/mission/joseph-w-costello/
CATEGORIES:Archive
END:VEVENT
END:VCALENDAR