BEGIN:VCALENDAR
VERSION:2.0
PRODID:-//Patriot Guard Riders - ECPv5.3.2.1//NONSGML v1.0//EN
CALSCALE:GREGORIAN
METHOD:PUBLISH
X-WR-CALNAME:Patriot Guard Riders
X-ORIGINAL-URL:https://www.patriotguard.org
X-WR-CALDESC:Events for Patriot Guard Riders
BEGIN:VTIMEZONE
TZID:America/New_York
BEGIN:DAYLIGHT
TZOFFSETFROM:-0500
TZOFFSETTO:-0400
TZNAME:EDT
DTSTART:20210314T070000
END:DAYLIGHT
BEGIN:STANDARD
TZOFFSETFROM:-0400
TZOFFSETTO:-0500
TZNAME:EST
DTSTART:20211107T060000
END:STANDARD
END:VTIMEZONE
BEGIN:VEVENT
DTSTART;VALUE=DATE:20210402
DTEND;VALUE=DATE:20210403
DTSTAMP:20210404T084328
CREATED:20210401T033532Z
LAST-MODIFIED:20210401T033532Z
UID:573453-1617321600-1617407999@www.patriotguard.org
SUMMARY:Joseph Thomas Miller
DESCRIPTION:Honor Mission\nJoseph Thomas Miller\, Veteran\nUSA – Korea\nHuntsville\, Alabama – 04-02-21\n\n\n\nABOUT THE MISSION: \nThe family of 1st. Lt. Joseph Thomas Miller (Ret) has asked the Patriot Guard to honor their loved one by standing a silent flag line at his Memorial Service. We will be Honored to do so.1st. Lt. Miller (Ret) stood for us…..now is the time to stand for him. 1st. Lt. Miller (Ret) (90) was in the U S Army in Korea and served with distinction. He was assigned to President Eisenhower’s Honor Guard.\n\n\nPRIMARY STAGING DETAILS: 04-02-21 \nStaging Time: 08:30 AM\n \nBerryhill Funeral Home\n2305 Memorial Pky. NW\nHuntsville\, Alabama 35810\n\n\nRide Captain: \nRose Milby\nbumper13157@gmail.com\n256-425-1782\n\nFlag Captain: Myrick’s\, levon57@gmail.com\, 256-797-4569\n\n\nSpecial Instructions: \nPlace flags. Set flag line.\nFamily arrives at 09:00 am\n\n\nFlags & Water:\nFlags will be provided\nLarge Bike Flags will NOT be needed.\nWater WILL NOT be provided\, please bring your own.\n\n\nSubmitted By: John Cooper \nPosition: Alabama Ride Captain \n\nNote: You do not have to own/ride a motorcycle or be a veteran to join\, and membership is Free. The only requirement is RESPECT! To subscribe to receive mission notices\, log into the National Site and click on the Members tab at the top. Select the Subscribe to PGR Missions option.\n Print This Page
URL:https://www.patriotguard.org/mission/joseph-thomas-miller/
CATEGORIES:Honor Mission
END:VEVENT
END:VCALENDAR