BEGIN:VCALENDAR
VERSION:2.0
PRODID:-//Patriot Guard Riders - ECPv5.3.2.1//NONSGML v1.0//EN
CALSCALE:GREGORIAN
METHOD:PUBLISH
X-WR-CALNAME:Patriot Guard Riders
X-ORIGINAL-URL:https://www.patriotguard.org
X-WR-CALDESC:Events for Patriot Guard Riders
BEGIN:VTIMEZONE
TZID:America/New_York
BEGIN:DAYLIGHT
TZOFFSETFROM:-0500
TZOFFSETTO:-0400
TZNAME:EDT
DTSTART:20210314T070000
END:DAYLIGHT
BEGIN:STANDARD
TZOFFSETFROM:-0400
TZOFFSETTO:-0500
TZNAME:EST
DTSTART:20211107T060000
END:STANDARD
END:VTIMEZONE
BEGIN:VEVENT
DTSTART;VALUE=DATE:20210331
DTEND;VALUE=DATE:20210401
DTSTAMP:20210401T153832
CREATED:20210329T174118Z
LAST-MODIFIED:20210329T174118Z
UID:573271-1617148800-1617235199@www.patriotguard.org
SUMMARY:Joseph Smith Jr.
DESCRIPTION:Honor Mission\nJoseph Smith Jr.\nLEO\nMarienville\, Pennsylvania – 03-31-21\n\n\n\nABOUT THE MISSION: \nThe Patriot Guard Riders have been invited by the family of Joseph Smith Jr\, Corrections Officer\, to stand in silent honor for his service.  Joseph was employed as a Pennsylvania Department of Corrections Officer for SCI Forrest.\nJoseph served the community with honor\, it’s now our turn to stand in honor for him.\n\n\nPRIMARY STAGING DETAILS: 03-31-21 \nStaging Time: 09:45  \nKwik Fill\n42085 PA-66\nMarienville\, Pennsylvania 16239\n\n\nRide Captain: \nJeremy “Barnyard” Barnard\nbarnyard@agnation.org\n(814) 331-8820\n\n\nSpecial Instructions: \nBriefing: 10:00 AM\nKSU: 10:15 AM\nFlag Line set upon arrival: TBD\nFurlong Funeral Home\n140 Cherry St\nMarienville\, PA 16239\nVisitation 11-1:00 PM\nService at 1:00 PM\nFollowing the service\, KSU: TBD\nLocation will be discussed at the Briefing.\n\nMembers can attend all of a mission or any part of the mission. PGR sets no time for a member to escort and or stand a mission. We Thank you for whatever time you give us and the families of our heroes appreciate your time.Please be aware and alert of your surroundings. Also\, before heading out please watch the weather\, dress accordingly and grab your masks.\n\nFlags & Water:\nFlags will not be provided\nLarge Bike Flags will NOT be needed.\nWater WILL NOT be provided\, please bring your own.\n\n\nSubmitted By: Marcy “Marcella” Sorensen \nPosition: Pennsylvania Ride Captain \n\nNote: You do not have to own/ride a motorcycle or be a veteran to join\, and membership is Free. The only requirement is RESPECT! To subscribe to receive mission notices\, log into the National Site and click on the Members tab at the top. Select the Subscribe to PGR Missions option.\n Print This Page
URL:https://www.patriotguard.org/mission/joseph-smith-jr/
CATEGORIES:Honor Mission
END:VEVENT
END:VCALENDAR