BEGIN:VCALENDAR
VERSION:2.0
PRODID:-//Patriot Guard Riders - ECPv5.3.2.1//NONSGML v1.0//EN
CALSCALE:GREGORIAN
METHOD:PUBLISH
X-WR-CALNAME:Patriot Guard Riders
X-ORIGINAL-URL:https://www.patriotguard.org
X-WR-CALDESC:Events for Patriot Guard Riders
BEGIN:VTIMEZONE
TZID:America/New_York
BEGIN:DAYLIGHT
TZOFFSETFROM:-0500
TZOFFSETTO:-0400
TZNAME:EDT
DTSTART:20190310T070000
END:DAYLIGHT
BEGIN:STANDARD
TZOFFSETFROM:-0400
TZOFFSETTO:-0500
TZNAME:EST
DTSTART:20191103T060000
END:STANDARD
END:VTIMEZONE
BEGIN:VEVENT
DTSTART;VALUE=DATE:20190828
DTEND;VALUE=DATE:20190829
DTSTAMP:20210402T144504
CREATED:20190826T184836Z
LAST-MODIFIED:20190826T184836Z
UID:171932-1566950400-1567036799@www.patriotguard.org
SUMMARY:Joseph Russell Best
DESCRIPTION:Honor Mission\nJoseph Russell Best\, Retired\nUSA – Korea\, Vietnam\nPensacola\, Florida – 08-28-19\n\n\n\nABOUT THE MISSION: \nThe family of SFC Joseph Russell Best\, United States Army\, has graciously invited the Patriot Guard to escort him to Barrancas National Cemetery and stand a silent flag line during Military Honors. SFC Best\, 84\, honorably served 23 years in the United States Army and retired on 28 Feb 1973. He was both a Korea and Vietnam veteran. SFC Best’s numerous awards and decorations include the Korean Service Medal\, United Nations Service Medal\, National Defense Service Medal w/1OLC\, Vietnam Service Medal\, Combat Infantry Badge\, Republic of Vietnam Campaign Medal w/60 Device\, Bronze Star w/1OLC\, and the Army Commendation Medal. The Patriot Guard will escort SFC Best from Trahan Family Funeral Home\, 419 Yoakum Court\, Pensacola\, to Barrancas National Cemetery with LEO escort.\n\n\nPRIMARY STAGING DETAILS: 08-28-19 \nStaging Time: 08:15 AM\n \nWhataburger\n5480 Pensacola Blvd\nPensacola\, Florida\n\n\nRide Captain: \nHarry Salzer (OLD DOC)\n251 716 0417\nhorsin5@yahoo.com\n\n\nSpecial Instructions: \nNaval Air Station requires long sleeve shirt or jacket\, long trousers\, long fingered gloves\, DOT approved helmet\, footwear covering the ankles\, and proper eye protection be worn while riding on base.\n09:00 – Briefing for all Riders.\n09:15 – KSU to Trahan’s Funeral Home.\n09:30 – KSU to Barrancas National Cemetery.\n10:30 – Honors at Barrancas National Cemetery Site “B”.\n\n\nFlags & Water:\nFlags will be provided\nIf you have large bike flags\, please bring them.\nWater will be provided.\n\n\n\nSubmitted By: Ray Doyle \nPosition: Florida Assistant State Captain \n\nNote: You do not have to own/ride a motorcycle or be a veteran to join\, and membership is Free. The only requirement is RESPECT! To subscribe to receive mission notices\, log into the National Site and click on the Members tab at the top. Select the Subscribe to PGR Missions option.\n Print This Page
URL:https://www.patriotguard.org/mission/joseph-russell-best/
CATEGORIES:Honor Mission
END:VEVENT
END:VCALENDAR