BEGIN:VCALENDAR
VERSION:2.0
PRODID:-//Patriot Guard Riders - ECPv5.6.0//NONSGML v1.0//EN
CALSCALE:GREGORIAN
METHOD:PUBLISH
X-WR-CALNAME:Patriot Guard Riders
X-ORIGINAL-URL:https://www.patriotguard.org
X-WR-CALDESC:Events for Patriot Guard Riders
BEGIN:VTIMEZONE
TZID:America/New_York
BEGIN:DAYLIGHT
TZOFFSETFROM:-0500
TZOFFSETTO:-0400
TZNAME:EDT
DTSTART:20160313T070000
END:DAYLIGHT
BEGIN:STANDARD
TZOFFSETFROM:-0400
TZOFFSETTO:-0500
TZNAME:EST
DTSTART:20161106T060000
END:STANDARD
END:VTIMEZONE
BEGIN:VEVENT
DTSTART;TZID=America/New_York:20160604T090000
DTEND;TZID=America/New_York:20160604T110000
DTSTAMP:20210513T182113
CREATED:20160604T130000Z
LAST-MODIFIED:20191201T145527Z
UID:411683-1465030800-1465038000@www.patriotguard.org
SUMMARY:Joseph R. Malinowski\, USN
DESCRIPTION:Joseph R. Malinowski\nNavy World War 2 Veteran\n4 JUN 2016\nScranton\, PA\n\n\nThe family of Navy World War 2 Veteran Joseph R. Malinowski has requested the Patriot Guard Riders stand to honor his service to our nation at his funeral\, Saturday\, June 4th. Joe proudly served on both the USS Tarawa (CV-40) and USS Elokomin (AO-55) during World War 2.  Joseph Malinowski is a patriot who served our country with honor and now it’s our turn to stand and honor him.  \nFUNERAL MASS:  \n4 JUN 2016   Service begins @ 1100 HRS \nImmaculate Conception Catholic Church\n805 Taylor Avenue\nScranton\, PA  18510\nMap: https://goo.gl/maps/GVhcHw5Wdis \nStaging:  1030 HRS\nPlease bring 3 x 5 flags; flag line only; cages welcome. \nRCIC:\nMike Vogt\, ASC\nEmail:  pgrpa.asc.east@gmail.com\nPhone:  570-854-2012
URL:https://www.patriotguard.org/mission/joseph-r-malinowski-usn/
CATEGORIES:Archive
END:VEVENT
END:VCALENDAR