BEGIN:VCALENDAR
VERSION:2.0
PRODID:-//Patriot Guard Riders - ECPv5.6.0//NONSGML v1.0//EN
CALSCALE:GREGORIAN
METHOD:PUBLISH
X-WR-CALNAME:Patriot Guard Riders
X-ORIGINAL-URL:https://www.patriotguard.org
X-WR-CALDESC:Events for Patriot Guard Riders
BEGIN:VTIMEZONE
TZID:America/New_York
BEGIN:DAYLIGHT
TZOFFSETFROM:-0500
TZOFFSETTO:-0400
TZNAME:EDT
DTSTART:20160313T070000
END:DAYLIGHT
BEGIN:STANDARD
TZOFFSETFROM:-0400
TZOFFSETTO:-0500
TZNAME:EST
DTSTART:20161106T060000
END:STANDARD
END:VTIMEZONE
BEGIN:VEVENT
DTSTART;TZID=America/New_York:20160614T090000
DTEND;TZID=America/New_York:20160614T110000
DTSTAMP:20210513T170032
CREATED:20160614T130000Z
LAST-MODIFIED:20191201T145151Z
UID:411358-1465894800-1465902000@www.patriotguard.org
SUMMARY:Joseph Paul Bailey\, USA
DESCRIPTION:Joseph Paul Bailey\nUS Army\, Vietnam Veteran\nMontevallo\, AL\n14 June 2016\n\n\n\nThe family of Mr Bailey has requested the attendance of Patriot Guard Riders as they honor their Hero. Mr. Bailey  served in the US Army during Vietnam. He answered the call of duty\, so the Patriot Guard Riders will be honored to stand a flag line for him at this time. \nStaging Part: 1:00 PM\, Tuesday 14 June 2016  (for 1:15 appt. time)\nAlabama National Cemetery\n3133 Hwy 119\,\nMontevallo\, AL  35115 \nWeather prediction for Montevallo on Wednesday: High of 92 degrees & 60% chance of rain. \nRCIC:\nRick Brandt\nrbrandt8042@att.net\n(205) 822-8042
URL:https://www.patriotguard.org/mission/joseph-paul-bailey-usa/
CATEGORIES:Archive
END:VEVENT
END:VCALENDAR