BEGIN:VCALENDAR
VERSION:2.0
PRODID:-//Patriot Guard Riders - ECPv5.3.2.1//NONSGML v1.0//EN
CALSCALE:GREGORIAN
METHOD:PUBLISH
X-WR-CALNAME:Patriot Guard Riders
X-ORIGINAL-URL:https://www.patriotguard.org
X-WR-CALDESC:Events for Patriot Guard Riders
BEGIN:VTIMEZONE
TZID:America/New_York
BEGIN:DAYLIGHT
TZOFFSETFROM:-0500
TZOFFSETTO:-0400
TZNAME:EDT
DTSTART:20190310T070000
END:DAYLIGHT
BEGIN:STANDARD
TZOFFSETFROM:-0400
TZOFFSETTO:-0500
TZNAME:EST
DTSTART:20191103T060000
END:STANDARD
END:VTIMEZONE
BEGIN:VEVENT
DTSTART;VALUE=DATE:20190220
DTEND;VALUE=DATE:20190221
DTSTAMP:20210403T015328
CREATED:20190218T140042Z
LAST-MODIFIED:20190218T140042Z
UID:150697-1550620800-1550707199@www.patriotguard.org
SUMMARY:Joseph Patrick Marchisio
DESCRIPTION:Honor Mission\nJoseph Patrick Marchisio\, Veteran\nUSA – Vietnam\nBridgewater\, Massachusetts – 02-20-19\n\n\n\n\nABOUT THE MISSION: \nJoseph served his country proudly in the Vietnam war from 1968 to 1970.  He retained the rank of staff sergeant and also earned these medals\, 2 Purple Hearts\, Bronze Star\, Army Command Medal\, National Defense Medal\, Vietnam Service Medal\, Vietnam  a.m.Campaign Medal and RVN Gallantry Cross.\nInterment: Will be after the church service and the cemetery is directly behind the church.\n\n\nPRIMARY STAGING DETAILS: 02-20-19 \nStaging Time: 9:30  \nSt Thomas Aquinas Church\n103 Center St.\nBridgewater\, Massachusetts 02324\n\n\nRide Captain: \nDave Rumney\, gufinof1@msn.com\n\n\nSpecial Instructions: \nBriefing at 9:30 am\n\n\nFlags & Water:\nFlags will be provided\nLarge Bike Flags will NOT be needed.\nWater WILL NOT be provided\, please bring your own.\n\n\nSubmitted By: Steven Vieira \nPosition: Massachusetts Assistant State Captain \n\nNote: You do not have to own/ride a motorcycle or be a veteran to join\, and membership is Free. The only requirement is RESPECT! To subscribe to receive mission notices\, log into the National Site and click on the Members tab at the top. Select the Subscribe to PGR Missions option.\n Print This Page
URL:https://www.patriotguard.org/mission/joseph-patrick-marchisio/
CATEGORIES:Honor Mission
END:VEVENT
END:VCALENDAR