BEGIN:VCALENDAR
VERSION:2.0
PRODID:-//Patriot Guard Riders - ECPv5.6.0//NONSGML v1.0//EN
CALSCALE:GREGORIAN
METHOD:PUBLISH
X-WR-CALNAME:Patriot Guard Riders
X-ORIGINAL-URL:https://www.patriotguard.org
X-WR-CALDESC:Events for Patriot Guard Riders
BEGIN:VTIMEZONE
TZID:America/New_York
BEGIN:DAYLIGHT
TZOFFSETFROM:-0500
TZOFFSETTO:-0400
TZNAME:EDT
DTSTART:20160313T070000
END:DAYLIGHT
BEGIN:STANDARD
TZOFFSETFROM:-0400
TZOFFSETTO:-0500
TZNAME:EST
DTSTART:20161106T060000
END:STANDARD
END:VTIMEZONE
BEGIN:VEVENT
DTSTART;TZID=America/New_York:20160711T090000
DTEND;TZID=America/New_York:20160711T110000
DTSTAMP:20210512T151017
CREATED:20160711T130000Z
LAST-MODIFIED:20191201T144415Z
UID:410665-1468227600-1468234800@www.patriotguard.org
SUMMARY:Joseph Lowry\, USA
DESCRIPTION:Patriot’s Name:  Sgt Joseph Lowry\nMilitary Branch:United States Army\nClassification:Veteran\nAdditional Military Info:\nVietnam Veteran\, National Defense medal\, Vietnam Service medal\, Vietnam Campaign\nmedal \nLink To Obituary:\nhttp://www.meadorfuneralhome.com/obituaries/Joseph-Lowry-2/#!/Obituary \nMission Ride Captain:\nCarl “Gunney” Feltner\, Cfeltner@cableone.net\, (903) 819-6227 \nMission Summary:\nThe family has asked the PGR to honor their hero by standing a flag line at the funeral services with a procession and a secondary flag line at the cemetery. \nPART 1:Funeral Service and Procession \nMission Date:Jul 11\, 2016 – Monday\nStaging Time:09:00\nBriefing Time:09:15\nIn Position Time Or KSU:09:30\nService Start Time:10:00 \nDetails Of Part 1:\nAfter a briefing\, a flag line will be established prior to services. When services start\, flags will be furled and 4 honor bikes will be chosen to escort the coach\, family\, and friends to the cemetery. All other PGR members will be asked to make their way to the cemetery to receive the procession and stand a second flag line. \nName Of Staging Point:\nMeadors Funeral Home\n401 Hwy 377 North\nWhitesboro\, Texas 76273 \nPART 2:Interment service\nMission Date:Jul 11\, 2016 – Monday\nStaging Time:10:30\nBriefing Time:10:45\nIn Position Time Or KSU:11:00\nService Start Time:11:00 \nDetails Of Part 2:\nFour Honor bikes will be part of the procession from Whitesboro to the cemetery in Bells\, where a second flag line will already be established. Upon conclusion of the graveside services\, flags will be furled and a debriefing held prior to riders being dismissed. \nName Of Staging Point\nRosehill Cemetery\nHwy 56 east\nBells\, Texas
URL:https://www.patriotguard.org/mission/joseph-lowry-usa/
CATEGORIES:Archive
END:VEVENT
END:VCALENDAR