BEGIN:VCALENDAR
VERSION:2.0
PRODID:-//Patriot Guard Riders - ECPv5.6.0//NONSGML v1.0//EN
CALSCALE:GREGORIAN
METHOD:PUBLISH
X-WR-CALNAME:Patriot Guard Riders
X-ORIGINAL-URL:https://www.patriotguard.org
X-WR-CALDESC:Events for Patriot Guard Riders
BEGIN:VTIMEZONE
TZID:America/New_York
BEGIN:DAYLIGHT
TZOFFSETFROM:-0500
TZOFFSETTO:-0400
TZNAME:EDT
DTSTART:20160313T070000
END:DAYLIGHT
BEGIN:STANDARD
TZOFFSETFROM:-0400
TZOFFSETTO:-0500
TZNAME:EST
DTSTART:20161106T060000
END:STANDARD
END:VTIMEZONE
BEGIN:VEVENT
DTSTART;TZID=America/New_York:20160812T090000
DTEND;TZID=America/New_York:20160812T110000
DTSTAMP:20210512T025912
CREATED:20160812T130000Z
LAST-MODIFIED:20191201T143646Z
UID:409973-1470992400-1470999600@www.patriotguard.org
SUMMARY:Joseph Lee Owen\, 54
DESCRIPTION:The family of Joseph Lee Owen has asked the Patriot Guard Riders and the  American Legion Riders to assist with his visitation\, funeral service\, escort and grave side service. \nJoseph was a U.S. Army Veteran serving  in Germany from 1980 to 1983.\n\nFuneral  Services will be at 10:30 a.m. Friday\, August 12\, 2016 at the V.A.  Protestant Chapel. \nBurial will be in Danville National Cemetery with  Military Honors by American Legion Post 210. \nVisitation will be from  9:30 to 10:30 Friday at the V.A. Protestant Chapel with Patriot Guard  Honors. \nStaging: 0830 hrs (8:30am ) At the V.A. Protestant Chapel\, 1900 East Main St.\, Danville\, IL.\n\nBriefing: 0840 hrs (8:40 am) We will establish our flag line immediately following the briefing. \nAt  the conclusion of the funeral service we will escort our brother and  his family to the Danville National Cemetery for grave side services and  Military Honors. \nRide Captain: Pete Powell 217-304-1967\nSupport:  Mike Longfellow:  217-260-4794
URL:https://www.patriotguard.org/mission/joseph-lee-owen-54/
CATEGORIES:Archive
END:VEVENT
END:VCALENDAR