BEGIN:VCALENDAR
VERSION:2.0
PRODID:-//Patriot Guard Riders - ECPv5.3.2.1//NONSGML v1.0//EN
CALSCALE:GREGORIAN
METHOD:PUBLISH
X-WR-CALNAME:Patriot Guard Riders
X-ORIGINAL-URL:https://www.patriotguard.org
X-WR-CALDESC:Events for Patriot Guard Riders
BEGIN:VTIMEZONE
TZID:America/New_York
BEGIN:DAYLIGHT
TZOFFSETFROM:-0500
TZOFFSETTO:-0400
TZNAME:EDT
DTSTART:20170312T070000
END:DAYLIGHT
BEGIN:STANDARD
TZOFFSETFROM:-0400
TZOFFSETTO:-0500
TZNAME:EST
DTSTART:20171105T060000
END:STANDARD
END:VTIMEZONE
BEGIN:VEVENT
DTSTART;TZID=America/New_York:20170607T171500
DTEND;TZID=America/New_York:20170607T191500
DTSTAMP:20210406T021911
CREATED:20170607T211500Z
LAST-MODIFIED:20191201T034606Z
UID:343207-1496855700-1496862900@www.patriotguard.org
SUMMARY:Joseph L. McNally III\, PGR\, Veteran\, USMC
DESCRIPTION:Joseph L. McNally III\, PGR\, Veteran \nUSMC \nNorth Scituate\, Rhode Island – 07 Jun 2017\n\n[HR][/HR]\nABOUT THE MISSION: \nDear Patriot Guard Riders and Associates \, \nWith great sadness\, the family of PGR Brother Joe McNally III\, has asked us to honor him\, at his service. \nJoe was a Marine Corps Veteran\, the Assistant Director for the RI Oath Keepers and more recently joined and was very active with the PGR. He was passionate and active in what he believed in. Just last weekend he spent time volunteering at the Boots on the Ground event at Roger Williams Park and last Monday marched in a Memorial Day parade with the Oath Keepers. His Service will Be WAKE ONLY at Winfield Funeral Home\, 571 west Greenville road \, North Scituate RI 02857 \nPlease arrive for 5:00 PM\, Flag line to be in Place 5:15 For Family Arrival !!! ~ \nAs always\, thanks for all you do! \n\nPRIMARY STAGING DETAILS: 07 Jun 2017 \n \nPrimary Staging Time: 5:15 P.M.\n\nWinfield Funeral Home\,\n571 west Greenville road\n\nNorth Scituate\, Rhode Island – 02857 \n\nhttps://search.yahoo.com/local/s;_yl…NvbG8DYmYxBHBv\n\n \n \nRide Captain:\n\nRichard ( Pappy ) Desjarlais pappy0456@yahoo.com\n\n \nSpecial Instructions:\n\nPlease park on left hand side of Building \n** NOTE ** If you cant make 5:00 pm arrival please come when you can\, to help with relief in the Flag line .\n\n \nFlags & Water:\n\nFlags Will Be Provided\n\nLarge Bike Flags will NOT be needed.\n\nWater will be provided.\n\nSubmitted By: Deanna Poole\nPosition: State Captain \n[HR][/HR]\nNote:\nYou do not have to own/ride a motorcycle or be a Veteran to join and membership is Free. The only requirement is RESPECT! To join\, simply go to www.PatriotGuard.org and click on Register. Membership is Free. \nTo subscribe to receive mission notices\, log into the National Site and click on the Mission Tab at the top. Select Upcoming Missions by State. Scroll to the state(s) you would like to receive notices for and click on the green check mark. Detailed instructions are also located in the FAQs on the site by clicking on the Quick Links Tab and selecting FAQs.
URL:https://www.patriotguard.org/mission/joseph-l-mcnally-iii-pgr-veteran-usmc/
END:VEVENT
END:VCALENDAR