BEGIN:VCALENDAR
VERSION:2.0
PRODID:-//Patriot Guard Riders - ECPv5.3.2.1//NONSGML v1.0//EN
CALSCALE:GREGORIAN
METHOD:PUBLISH
X-WR-CALNAME:Patriot Guard Riders
X-ORIGINAL-URL:https://www.patriotguard.org
X-WR-CALDESC:Events for Patriot Guard Riders
BEGIN:VTIMEZONE
TZID:America/New_York
BEGIN:DAYLIGHT
TZOFFSETFROM:-0500
TZOFFSETTO:-0400
TZNAME:EDT
DTSTART:20190310T070000
END:DAYLIGHT
BEGIN:STANDARD
TZOFFSETFROM:-0400
TZOFFSETTO:-0500
TZNAME:EST
DTSTART:20191103T060000
END:STANDARD
END:VTIMEZONE
BEGIN:VEVENT
DTSTART;VALUE=DATE:20190606
DTEND;VALUE=DATE:20190607
DTSTAMP:20210405T000826
CREATED:20190604T010832Z
LAST-MODIFIED:20190604T011118Z
UID:163509-1559779200-1559865599@www.patriotguard.org
SUMMARY:Joseph K. Boothe
DESCRIPTION:Honor Mission\nJoseph K. Boothe\, Veteran\nUSA –\nHouston\, Texas – 06-06-19\n\n\n\nABOUT THE MISSION: \nJoseph K. Boothe\, 38\, of Houston\, TX entered into rest on May 25\, 2019. He was born in New York City\, N.Y. on July 30\,1980 to parents Franklyn Boothe and Veriel Henry. Joseph served in the U.S. Army as a Sergeant for 8 years\, completing two tours in Iraq. More information at briefing.\n\n\nPRIMARY STAGING DETAILS: 06-06-19 \nStaging Time: 09:45 AM\n \nFallbrook Church\n12512 Walters Rd.\nHouston\, Texas 77014\nMap\n\n\nRide Captain: \nGeorge Pelkey\n(713) 376-2812\ngeorgepelkey@prodigy.net\n\n\nSpecial Instructions: \nStaging Time: 9:45 am – 10:15 am\nBriefing Time: 10:15 am\nIn position time or KSU: 10:30 am\nFlag line at Church 10:30 am to 11:00 am.\nWould like flag bikes\, with LEO escort\, to travel with funeral to HNC at about 12:45pm.\nFAST team will leave about 11:15 am for HNC.\n\n\nFlags & Water:\nFlags will be provided\nIf you have large bike flags\, please bring them.\nWater will be provided.\n\nSTAGING #2 DETAILS: 06-06-19 \nStaging Time: 12:45 PM\n \nHouston National Cemetery\n10410 Veterans Memorial Drive\nHouston\, Texas 77038\nMap\n\n\nRide Captain: \nGeorge Pelkey\n(713) 376-2812\ngeorgepelkey@prodigy.net\n\n\nSpecial Instructions: \nStaging Time: 12:45 pm – 1:00 pm\nBriefing Time: 1:00 pm\nIn position time or KSU: 1:15 pm\nGate Time: 1:30 pm\nFlag line at Houston National Cemetery.\n\n\nFlags & Water:\nFlags will be provided\nIf you have large bike flags\, please bring them.\nWater will be provided.\n\n\n\nSubmitted By: Steve Cox \nPosition: Texas Ride Captain \n\nNote: You do not have to own/ride a motorcycle or be a veteran to join\, and membership is Free. The only requirement is RESPECT! To subscribe to receive mission notices\, log into the National Site and click on the Members tab at the top. Select the Subscribe to PGR Missions option.\n Print This Page
URL:https://www.patriotguard.org/mission/joseph-k-boothe/
CATEGORIES:Honor Mission
END:VEVENT
END:VCALENDAR