BEGIN:VCALENDAR
VERSION:2.0
PRODID:-//Patriot Guard Riders - ECPv5.6.0//NONSGML v1.0//EN
CALSCALE:GREGORIAN
METHOD:PUBLISH
X-WR-CALNAME:Patriot Guard Riders
X-ORIGINAL-URL:https://www.patriotguard.org
X-WR-CALDESC:Events for Patriot Guard Riders
BEGIN:VTIMEZONE
TZID:America/New_York
BEGIN:DAYLIGHT
TZOFFSETFROM:-0500
TZOFFSETTO:-0400
TZNAME:EDT
DTSTART:20160313T070000
END:DAYLIGHT
BEGIN:STANDARD
TZOFFSETFROM:-0400
TZOFFSETTO:-0500
TZNAME:EST
DTSTART:20161106T060000
END:STANDARD
END:VTIMEZONE
BEGIN:VEVENT
DTSTART;TZID=America/New_York:20160723T090000
DTEND;TZID=America/New_York:20160723T110000
DTSTAMP:20210513T001921
CREATED:20160723T130000Z
LAST-MODIFIED:20191201T144135Z
UID:410421-1469264400-1469271600@www.patriotguard.org
SUMMARY:Joseph Jones
DESCRIPTION:Joseph Jones\nU.S. Army\nJennings\,LA. 07-23-2016 \n\n\nThe PGR has been asked to  attend and honor Mr Jones. He served in the Army from 1946 to 1947. He  was stationed in California. He will be greatly missed.\n\nPRIMARY STAGING INFO – 07-23-2016:\n    Location:\nSemien  Lewis funeral home\n819 N.State Street\nJennings\,la \n  Staging Time:\n9:30 A.M. \nSpecial Instructions: \nSetup flags on grounds of funeral home. Flag line from 10:00am till  time of service at 1:00pm. \nBurial will follow at Lake View Cemetery in  lake Arthur.  About a 15 mile escort. \nRCIC:\nRobert Lebon –  1stofficer@cox.net \n  Assisting RCs: \nFlags will be provided.\nLarge bike flags will be needed. \nWeather:\nhot and sunny\, 30% chance of rain
URL:https://www.patriotguard.org/mission/joseph-jones/
CATEGORIES:Archive
END:VEVENT
END:VCALENDAR