BEGIN:VCALENDAR
VERSION:2.0
PRODID:-//Patriot Guard Riders - ECPv5.3.2.1//NONSGML v1.0//EN
CALSCALE:GREGORIAN
METHOD:PUBLISH
X-WR-CALNAME:Patriot Guard Riders
X-ORIGINAL-URL:https://www.patriotguard.org
X-WR-CALDESC:Events for Patriot Guard Riders
BEGIN:VTIMEZONE
TZID:America/New_York
BEGIN:DAYLIGHT
TZOFFSETFROM:-0500
TZOFFSETTO:-0400
TZNAME:EDT
DTSTART:20190310T070000
END:DAYLIGHT
BEGIN:STANDARD
TZOFFSETFROM:-0400
TZOFFSETTO:-0500
TZNAME:EST
DTSTART:20191103T060000
END:STANDARD
END:VTIMEZONE
BEGIN:VEVENT
DTSTART;VALUE=DATE:20190903
DTEND;VALUE=DATE:20190904
DTSTAMP:20210401T023201
CREATED:20190902T154321Z
LAST-MODIFIED:20190902T154321Z
UID:172204-1567468800-1567555199@www.patriotguard.org
SUMMARY:Joseph John Zurek Jr
DESCRIPTION:Memorial\nJoseph John Zurek Jr\, Veteran\nUSA\nGrants Pass\, Oregon – 09-03-19\n\n\n\nABOUT THE MISSION: \nLadies and Gentlemen of the Patriot Guard Riders\, we have been requested by family and friends of US Army Veteran Joseph John (JoJo) Zurek\, Jr\, age 59\, for an escort. “JoJo” served 9 years in the US Army and resided in Cave Junction Oregon. Jerry from R Hog Farm in Cave Junction has scheduled a tribute ride from his shop to Selma and then return to Cave Junction for a Celebration of Life event and BBQ. We will be escorting “JoJo’s” bike trailered by his Mom and Dad to the memorial then back through town to Forks Park. Please come and help us support his family\, pay our respects and honor his service to our country.\n\n\nPRIMARY STAGING DETAILS: 09-03-19 \nStaging Time: 10:30  \nJD’s Sports Pub and Brewery – parking lot\nadjacent to a Chevron StationExit 55 off I-5690 Redwood Hwy (HWY-190)\nGrants Pass\, Oregon 97527\nhttps://goo.gl/maps/Hs4QnNPcgHHR9isV6\n\n\nRide Captain: \nRoger Wilson\nrogerw1964@ymail.com\n\n\nSpecial Instructions: \nBriefing: 10:45 am\nKSU: 11:00 am\nArrive At: R Hog Farm\n360 Caves Hwy\, Cave Junction\, OR 97523\nMap URL: https://goo.gl/maps/XUcUV3J8SFT37Jn78\n*****Tribute Ride*****\nFrom R Hog Farm to Selma and back to The Forks State ParkCave Junction\, OR 97523\nMap URL: https://goo.gl/maps/ZrJoEVZ7eRH53pXy8\nMemorial Begins: 12:00 pm\n\n\nFlags & Water:\nFlags will not be provided\nIf you have large bike flags\, please bring them.\nWater WILL NOT be provided\, please bring your own.\n\nSubmitted By: John Hanan II \nPosition: Oregon State Captain \n\nNote: You do not have to own/ride a motorcycle or be a veteran to join\, and membership is Free. The only requirement is RESPECT! To subscribe to receive mission notices\, log into the National Site and click on the Members tab at the top. Select the Subscribe to PGR Missions option.\n Print This Page
URL:https://www.patriotguard.org/mission/joseph-john-zurek-jr/
CATEGORIES:Memorial
END:VEVENT
END:VCALENDAR