BEGIN:VCALENDAR
VERSION:2.0
PRODID:-//Patriot Guard Riders - ECPv5.6.0//NONSGML v1.0//EN
CALSCALE:GREGORIAN
METHOD:PUBLISH
X-WR-CALNAME:Patriot Guard Riders
X-ORIGINAL-URL:https://www.patriotguard.org
X-WR-CALDESC:Events for Patriot Guard Riders
BEGIN:VTIMEZONE
TZID:America/New_York
BEGIN:DAYLIGHT
TZOFFSETFROM:-0500
TZOFFSETTO:-0400
TZNAME:EDT
DTSTART:20160313T070000
END:DAYLIGHT
BEGIN:STANDARD
TZOFFSETFROM:-0400
TZOFFSETTO:-0500
TZNAME:EST
DTSTART:20161106T060000
END:STANDARD
END:VTIMEZONE
BEGIN:VEVENT
DTSTART;TZID=America/New_York:20160805T090000
DTEND;TZID=America/New_York:20160805T110000
DTSTAMP:20210512T045751
CREATED:20160805T130000Z
LAST-MODIFIED:20191201T143954Z
UID:410266-1470387600-1470394800@www.patriotguard.org
SUMMARY:Joseph Houlihan\, 67\, USAF Veteran / Ocean Springs
DESCRIPTION:US Air Force Veteran Joseph Houlihan (67)\nFriday 5 August 2016\nOcean Springs/Biloxi  MS\n\n\n\nWe are sad to report the death of US Air Force Veteran Joseph Houlihan (67).  Mr. Houlihan received the Meritorious Service Medal\,  Joint Service Commendation Medal\,  AF Commendation Medal w/4ol\, AF Outstanding Unit Award w/Valor device\, AF Outstanding Unit Award w/4ol\,  AF Organizational Excellence Award\,  AF Good Conduct Medal w/5ol\, AF Recognition Ribbon\,  National Defense Service Medal\, Armed Forces Expeditionary Medal w/20lc’s\, AF Overseas Short Tour Ribbon\,  AF Overseas Long Tour w/1ol\, AF Longevity Service Award Ribbon w/4ol\, Small Arms Expert Marksmanship\, Ribbon AF Training Ribbon. \nThe family of Mr. Houlihan has requested the PATRIOT GUARD RIDERS help honor their loved one. \nPRIMARY STAGING\n11:45 am\nFriday\, August 5\, 2016\nBradford O’Keefe Funeral Home\n911 Porter Ave\nOcean Springs\,  MS \nThe Patriot Guard will provide a flag line during visitation from  12-1 pm\, then escort to the cemetery after the 1 pm memorial service to Biloxi National for 2:30 pm committal. \nESCORT\nBiloxi National Cemetery\n400 Veterans Ave.\nBiloxi\,  MS \nRC Bob Harwood\n228-253-5446 \n*Note -please hydrate as it will be hot.  Escort is a short distance and large flags are encouraged.
URL:https://www.patriotguard.org/mission/joseph-houlihan-67-usaf-veteran-ocean-springs/
END:VEVENT
END:VCALENDAR