BEGIN:VCALENDAR
VERSION:2.0
PRODID:-//Patriot Guard Riders - ECPv5.3.2.1//NONSGML v1.0//EN
CALSCALE:GREGORIAN
METHOD:PUBLISH
X-WR-CALNAME:Patriot Guard Riders
X-ORIGINAL-URL:https://www.patriotguard.org
X-WR-CALDESC:Events for Patriot Guard Riders
BEGIN:VTIMEZONE
TZID:America/New_York
BEGIN:DAYLIGHT
TZOFFSETFROM:-0500
TZOFFSETTO:-0400
TZNAME:EDT
DTSTART:20170312T070000
END:DAYLIGHT
BEGIN:STANDARD
TZOFFSETFROM:-0400
TZOFFSETTO:-0500
TZNAME:EST
DTSTART:20171105T060000
END:STANDARD
END:VTIMEZONE
BEGIN:VEVENT
DTSTART;TZID=America/New_York:20171107T084500
DTEND;TZID=America/New_York:20171107T104500
DTSTAMP:20210403T034723
CREATED:20171107T134500Z
LAST-MODIFIED:20191201T032557Z
UID:329520-1510044300-1510051500@www.patriotguard.org
SUMMARY:Joseph H. Israel\, Veteran\, USA\, USAR
DESCRIPTION:Joseph H. Israel\, Veteran\nUSA\, USAR\nSt. Louis\, Missouri – 07 Nov 2017\n\n\n[HR][/HR]\nABOUT THE MISSION: \n\nLadies and Gentlemen of the Patriot Guard  Riders\, we have been distinctly privileged by invitation\, to honor a  revered member of the United States Military. Please join us in standing  a flag line of honor and respect for fallen Veteran\, Joseph Israel\,  just as he once stood for every one of us. \nHero Israel served our Great Nation for 3 years (1972-1975) in the U.S.  Army and U.S. Army Reserves. He earned the status of SP4 and received  the Expert Badge (Grenade)\, Marksman Badge (M16)\, and the National  Defense Service Medal.\nThank you\, Mr. Israel\, from a grateful Nation. Your faithful dedication  to serve the United States of America is deeply appreciated\, and will  never be forgotten.\n\n\nPRIMARY STAGING DETAILS:  07 Nov 2017\nPrimary Staging Time: 8:45 A.M. \n\nKutis Funeral Home – South County Chapel\n5255 Lemay Ferry Road\nSt. Louis\, Missouri – 63129\n\n\nRide Captain: \n\nJeff ‘Tattoo’ Hirsch  jeff.stlpgr@gmail.com  314-210-6307\n\n\nSpecial Instructions: \n\n8:45 – Staging w/ ride meeting to follow\n9:00 – Flag line\n10:00 – Funeral service\n10:40 – Honor escort (5 miles) to Jefferson Barracks National Cemetery where Hero Israel will receive full Military Honors.\n11:00 – Jefferson Barracks National Cemetery committal service \nFlags / Support – Jim ‘1-Gunshy’ Kleszczewski\n \n\nFlags & Water: \n\nFlags Will Be Provided\nIf you have large bike flags\, please bring them.\nWater will be provided.\n\n\nSubmitted By: Jeff Hirsch\nPosition: Ride Captain\n[HR][/HR]Note:\nYou do not have to own/ride a motorcycle or be a Veteran to join and membership is Free. The only requirement is RESPECT! To join\, simply go to www.PatriotGuard.org and click on Register. Membership is Free. \nTo subscribe to receive mission notices\, log into the National Site and click on the Mission Tab at the top. Select the Subscribe to Missions option.
URL:https://www.patriotguard.org/mission/joseph-h-israel-veteran-usa-usar/
LOCATION:Dean Wiese
END:VEVENT
END:VCALENDAR