BEGIN:VCALENDAR
VERSION:2.0
PRODID:-//Patriot Guard Riders - ECPv5.3.2.1//NONSGML v1.0//EN
CALSCALE:GREGORIAN
METHOD:PUBLISH
X-WR-CALNAME:Patriot Guard Riders
X-ORIGINAL-URL:https://www.patriotguard.org
X-WR-CALDESC:Events for Patriot Guard Riders
BEGIN:VTIMEZONE
TZID:America/New_York
BEGIN:DAYLIGHT
TZOFFSETFROM:-0500
TZOFFSETTO:-0400
TZNAME:EDT
DTSTART:20190310T070000
END:DAYLIGHT
BEGIN:STANDARD
TZOFFSETFROM:-0400
TZOFFSETTO:-0500
TZNAME:EST
DTSTART:20191103T060000
END:STANDARD
END:VTIMEZONE
BEGIN:VEVENT
DTSTART;VALUE=DATE:20190907
DTEND;VALUE=DATE:20190908
DTSTAMP:20210401T082220
CREATED:20190903T011605Z
LAST-MODIFIED:20190903T011605Z
UID:172346-1567814400-1567900799@www.patriotguard.org
SUMMARY:Joseph D. Armbrust
DESCRIPTION:Honor Mission\nJoseph D. Armbrust\, Veteran\nUSA – WWII\nReynoldsburg\, Ohio – 09-07-19\n\n\n\nABOUT THE MISSION: \nSSgt Joseph D. Armbrust\, US Army 175th Infantry Regiment attached to the 29th Infantry Division\, was wounded June 1944\, and for his wounds received the Purple Heart. SSgt Armbrust passed away in 1999 but the Purple Heart that he gave his blood to earn\, was lost and ended up in a pawn shop in Newark\, Ohio. Through much investigation SSgt Armbrust’s final resting place was found to be in Reynoldsburg and his Purple Heart will be returned to be buried with him during a ceremony by the Ohio Patriot Guard on September 7\, 2019.\n\n\nPRIMARY STAGING DETAILS: 09-07-19 \nStaging Time: 10:30 AM\n \nGlen Rest Memorial Estates- Section “C” (Located just East of Office Building)\n8029 E. Main Street\nReynoldsburg\, Ohio 43068\n\n\nRide Captain: \nRay Schwabe\nrayschwabe@sbcglobal.net\n\n\nSpecial Instructions: \n\n\nFlags & Water:\nFlags will not be provided\nLarge Bike Flags will NOT be needed.\nWater WILL NOT be provided\, please bring your own.\n\n\n\nSubmitted By: Robert Woods \nPosition: Ohio State Captain \n\nNote: You do not have to own/ride a motorcycle or be a veteran to join\, and membership is Free. The only requirement is RESPECT! To subscribe to receive mission notices\, log into the National Site and click on the Members tab at the top. Select the Subscribe to PGR Missions option.\n Print This Page
URL:https://www.patriotguard.org/mission/joseph-d-armbrust/
CATEGORIES:Honor Mission
END:VEVENT
END:VCALENDAR