BEGIN:VCALENDAR
VERSION:2.0
PRODID:-//Patriot Guard Riders - ECPv5.6.0//NONSGML v1.0//EN
CALSCALE:GREGORIAN
METHOD:PUBLISH
X-WR-CALNAME:Patriot Guard Riders
X-ORIGINAL-URL:https://www.patriotguard.org
X-WR-CALDESC:Events for Patriot Guard Riders
BEGIN:VTIMEZONE
TZID:America/New_York
BEGIN:DAYLIGHT
TZOFFSETFROM:-0500
TZOFFSETTO:-0400
TZNAME:EDT
DTSTART:20160313T070000
END:DAYLIGHT
BEGIN:STANDARD
TZOFFSETFROM:-0400
TZOFFSETTO:-0500
TZNAME:EST
DTSTART:20161106T060000
END:STANDARD
END:VTIMEZONE
BEGIN:VEVENT
DTSTART;TZID=America/New_York:20160613T090000
DTEND;TZID=America/New_York:20160613T110000
DTSTAMP:20210513T185616
CREATED:20160613T130000Z
LAST-MODIFIED:20191201T145204Z
UID:411377-1465808400-1465815600@www.patriotguard.org
SUMMARY:Joseph C. Shierhold\, 70
DESCRIPTION:The Family of U.S. Army Veteran\, PFC. Joseph C. Shierhold\, 70\, has Requested the Patriot Guard for the Final Mission of Their Loved One. \nMONDAY\, JUNE 13th.\,  2016 \nVisitation:  9:00 a.m.-10:00 a.m.  (0900 hrs.-1000 hrs.)\nService:  10:00 a.m.  (1000 hrs.) \nHonor Escort to Jefferson Barracks National Cemetery (St. Louis\, MO.) for Interment with Full Military Honors. \nRCIC:\nDave “Rebel” Beck\, RC.\nDBeck59110@aol.com \nFlags/ Support:\nTeresa “Smilz” Barnhouse\, ARC. \nStaging: (0845 hrs.) to Establish a Flag Line.\nCozeans Memorial Chapel\n217 W. Columbia Street\nFarmington\, MO.  63640 \nWeather Predictions:  88° / 20% Chance of Showers /  Dress & Travel Accordingly / HYDRATE. \nRespectfully Submitted:\nS. Roger “Goose” Dollinger\, SRC.
URL:https://www.patriotguard.org/mission/joseph-c-shierhold-70/
CATEGORIES:Archive
END:VEVENT
END:VCALENDAR