BEGIN:VCALENDAR
VERSION:2.0
PRODID:-//Patriot Guard Riders - ECPv5.3.2.1//NONSGML v1.0//EN
CALSCALE:GREGORIAN
METHOD:PUBLISH
X-WR-CALNAME:Patriot Guard Riders
X-ORIGINAL-URL:https://www.patriotguard.org
X-WR-CALDESC:Events for Patriot Guard Riders
BEGIN:VTIMEZONE
TZID:America/New_York
BEGIN:DAYLIGHT
TZOFFSETFROM:-0500
TZOFFSETTO:-0400
TZNAME:EDT
DTSTART:20170312T070000
END:DAYLIGHT
BEGIN:STANDARD
TZOFFSETFROM:-0400
TZOFFSETTO:-0500
TZNAME:EST
DTSTART:20171105T060000
END:STANDARD
END:VTIMEZONE
BEGIN:VEVENT
DTSTART;TZID=America/New_York:20170424T093000
DTEND;TZID=America/New_York:20170424T113000
DTSTAMP:20210404T142908
CREATED:20170424T133000Z
LAST-MODIFIED:20191201T033137Z
UID:333848-1493026200-1493033400@www.patriotguard.org
SUMMARY:Joseph C. Mayers \, Veteran\, USA\, USAF
DESCRIPTION:Joseph C. Mayers\, Veteran \nUSA\, USAF \nMULTI-CITY\, New Mexico – 24 Apr 2017\n\n[HR][/HR]\nABOUT THE MISSION: \n88 year old Joseph Mayers passed from this life on 11 April 2017. Joe served his country in the Army Air Corps for two years. \nThe Patriot Guard has been requested to provide an escort from LaPaz-Graham’s Funeral Home in Las Cruces\, NM to Garden of Memories Cemetery in Hatch\, New Mexico where we will stand a flag line during Military Honors. \nPRIMARY STAGING DETAILS: 24 Apr 2017 \n \nPrimary Staging Time: 9:30 A.M.\n\nLa Paz – Graham’s Funeral Home\n555 West Amador Avenue\n\nLas Cruces\, New Mexico – 88005\n\n\n\n \n \nRide Captain:\n\nBobby “Mr Wonderful” Jakcsy\nRide Captain\nbobby.jakcsy@gmail.com\n(575) 496-1809 \nJim “Deacon Jim” Ernst\nNMPGR State Captain\njimernst@q.com\n(575) 430-3904\n\n \n \nSpecial Instructions:\n\nALAMOGORDO PGR MEMBERS: Meet at the Old Wal-Mart Parking Lot on US 54 South at 0745 hours. We will brief at 0750 and KSU will be at 0800 hours to travel to Las Cruces. \nLAS CRUCES PGR MEMBERS: Stage at the funeral home at 0930 hours. We will brief at 0945 and KSU will be at approximately 1000 hours (depending on the funeral director’s direction). \nWe will escort the procession to the Garden of Memories Cemetery in Hatch and stand a flag line during Military Honors. The use of bike flags will depend on the route we take to Hatch. \nAll who are part of other groups\, please forward this Email as appropriate. Remember to ride with the PGR all you have to be is a Patriot. No previous military service is required\, nor do you have to have a motorcycle. All you have to do is be able to carry a flag which we will provide. Please contact me with any questions.\n\n \n \nFlags & Water:\n\nFlags Will Be Provided\n\nIf you have large bike flags\, please bring them.\n\nWater will be provided.\n\nSubmitted By: Jim Ernst\nPosition: State Captain \n[HR][/HR]\nNote:\nYou do not have to own/ride a motorcycle or be a Veteran to join and membership is Free. The only requirement is RESPECT! To join\, simply go to www.PatriotGuard.org and click on Register. Membership is Free. \nTo subscribe to receive mission notices\, log into the National Site and click on the Mission Tab at the top. Select Upcoming Missions by State. Scroll to the state(s) you would like to receive notices for and click on the green check mark. Detailed instructions are also located in the FAQs on the site by clicking on the Quick Links Tab and selecting FAQs.
URL:https://www.patriotguard.org/mission/joseph-c-mayers-veteran-usa-usaf/
LOCATION:Memorial Day Observance
END:VEVENT
END:VCALENDAR