BEGIN:VCALENDAR
VERSION:2.0
PRODID:-//Patriot Guard Riders - ECPv5.6.0//NONSGML v1.0//EN
CALSCALE:GREGORIAN
METHOD:PUBLISH
X-WR-CALNAME:Patriot Guard Riders
X-ORIGINAL-URL:https://www.patriotguard.org
X-WR-CALDESC:Events for Patriot Guard Riders
BEGIN:VTIMEZONE
TZID:America/New_York
BEGIN:DAYLIGHT
TZOFFSETFROM:-0500
TZOFFSETTO:-0400
TZNAME:EDT
DTSTART:20160313T070000
END:DAYLIGHT
BEGIN:STANDARD
TZOFFSETFROM:-0400
TZOFFSETTO:-0500
TZNAME:EST
DTSTART:20161106T060000
END:STANDARD
END:VTIMEZONE
BEGIN:VEVENT
DTSTART;TZID=America/New_York:20160722T090000
DTEND;TZID=America/New_York:20160722T110000
DTSTAMP:20210512T235321
CREATED:20160722T130000Z
LAST-MODIFIED:20191201T144211Z
UID:410476-1469178000-1469185200@www.patriotguard.org
SUMMARY:Joseph Arthur Trombley\, Jr.\, USA\, Vietnam / Holts Summit
DESCRIPTION:The family of Joseph Arthur Trombley\, Jr.\, has requested the Patriot Guard Riders to stand in honor of their loved One. \nJoe served in the United States Army during the Vietnam War and received the National Defense Service Medal\, the Vietnam Service and Campaign Medals.   He was a member of VFW Post 280 in Columbia.\n\nFuneral services will be at 10 am (1000 hrs) on Friday\, July 22\, 2016 at Harvest Time Ministries Church 100 Chet Jac Dr\, Holts Summit\, MO Burial with military honors will be at 2:30 p.m. on July 22\, 2016 at Jacksonville Veteran’s Cemetery in Jacksonville\, Missouri.  The family will receive guests from 8 am (0800 hrs) until 7 pm (1900 hrs) on Thursday\, July 21 at Debo Funeral Home 10920 Old HWY 54\, Holts Summit and there will be a Masonic Service at 6:30 pm (1830 hrs) \nStage for Visitation at 4:30 pm (1630 hrs) at Debo Funeral Home in Holts Summit. \nStage for funeral escort at 9:30 am (0930 hrs) at Harvest Time Ministries Church. \nRide Captain: Mitch Seaman\n(573) 774-7094 \nP.S. The time for visitation is right 8 am-7 pm; we were requested for the last 2 hours.
URL:https://www.patriotguard.org/mission/joseph-arthur-trombley-jr-usa-vietnam-holts-summit/
CATEGORIES:Archive
END:VEVENT
END:VCALENDAR