BEGIN:VCALENDAR
VERSION:2.0
PRODID:-//Patriot Guard Riders - ECPv5.3.2.1//NONSGML v1.0//EN
CALSCALE:GREGORIAN
METHOD:PUBLISH
X-WR-CALNAME:Patriot Guard Riders
X-ORIGINAL-URL:https://www.patriotguard.org
X-WR-CALDESC:Events for Patriot Guard Riders
BEGIN:VTIMEZONE
TZID:America/New_York
BEGIN:DAYLIGHT
TZOFFSETFROM:-0500
TZOFFSETTO:-0400
TZNAME:EDT
DTSTART:20190310T070000
END:DAYLIGHT
BEGIN:STANDARD
TZOFFSETFROM:-0400
TZOFFSETTO:-0500
TZNAME:EST
DTSTART:20191103T060000
END:STANDARD
END:VTIMEZONE
BEGIN:VEVENT
DTSTART;VALUE=DATE:20190603
DTEND;VALUE=DATE:20190604
DTSTAMP:20210405T051823
CREATED:20190529T135530Z
LAST-MODIFIED:20190529T135530Z
UID:162818-1559520000-1559606399@www.patriotguard.org
SUMMARY:Joseph Andrew Thomas III
DESCRIPTION:Honor Mission\nJoseph Andrew Thomas III\, Retired\nARNG\nPortland\, Oregon – 06-03-19\n\n\n\nABOUT THE MISSION: \nLadies and Gentlemen of the Patriot Guard Riders\, we have been invited to stand for Joseph Andrew Thomas III\, age 69. Joseph served in the Oregon Army National Guard from 20 March 1969 to 19 March 1984. He started his service as a 13B Field Artilleryman and then became a 13D Tactical Operations Command Vehicle Operator. He was Honorably Retired at the rank of SFC (E7). His last unit was C Battery 2nd Battalion 218 Field Artillery on Cornfoot Rd. He earned the Armed Forces Reserve Medal – National Guard w/ bronze hourglass\, an Army Commendation Medal\, the Army Service Ribbon and the Expert M16A1 Badge. Please join us as we pay our respects and honor his service to our nation.\n\n\nPRIMARY STAGING DETAILS: 06-03-19 \nStaging Time: 1:00 pm\n \nLincoln Memorial Park & Funeral Home\n11801 SE Mt Scott Blvd\nPortland\, Oregon 97086\n\nMap\n\n\nRide Captain: \nSmokie Parrack\nsmokie.parrack@gmail.com\n\n\nSpecial Instructions: \nBriefing: 1:20 pm\nFlagline Set: 1:30 pm\nService Begins: 2:00 pm\n\n\nFlags & Water:\n\n\nFlags will not be provided\nIf you have large bike flags\, please bring them.\nWater WILL NOT be provided\, please bring your own.\n\n\nSubmitted By: John Hanan II \nPosition: Oregon State Captain \n\nNote: You do not have to own/ride a motorcycle or be a veteran to join\, and membership is Free. The only requirement is RESPECT! To subscribe to receive mission notices\, log into the National Site and click on the Members tab at the top. Select the Subscribe to PGR Missions option.\n Print This Page
URL:https://www.patriotguard.org/mission/joseph-andrew-thomas-iii/
CATEGORIES:Honor Mission
END:VEVENT
END:VCALENDAR