BEGIN:VCALENDAR
VERSION:2.0
PRODID:-//Patriot Guard Riders - ECPv5.3.2.1//NONSGML v1.0//EN
CALSCALE:GREGORIAN
METHOD:PUBLISH
X-WR-CALNAME:Patriot Guard Riders
X-ORIGINAL-URL:https://www.patriotguard.org
X-WR-CALDESC:Events for Patriot Guard Riders
BEGIN:VTIMEZONE
TZID:America/New_York
BEGIN:DAYLIGHT
TZOFFSETFROM:-0500
TZOFFSETTO:-0400
TZNAME:EDT
DTSTART:20190310T070000
END:DAYLIGHT
BEGIN:STANDARD
TZOFFSETFROM:-0400
TZOFFSETTO:-0500
TZNAME:EST
DTSTART:20191103T060000
END:STANDARD
END:VTIMEZONE
BEGIN:VEVENT
DTSTART;VALUE=DATE:20190907
DTEND;VALUE=DATE:20190908
DTSTAMP:20210401T022553
CREATED:20190903T011958Z
LAST-MODIFIED:20190903T011958Z
UID:172370-1567814400-1567900799@www.patriotguard.org
SUMMARY:Joseph Allen Greene
DESCRIPTION:Honor Mission\nJoseph Allen Greene\, Retired\nUSA – GW/ODS\nMuskegon\, Michigan – 09-07-19\n\n\n\nABOUT THE MISSION: \nThe family of Joseph Allen Greene has invited the Patriot Guard Riders to stand a Flag Line in honor of his service to our Country. Mr. Greene served 20 years in the United States Army\, retiring as a sergeant with 20 medals. His tours included Korea and the Gulf War.\nObituary\n\n\nPRIMARY STAGING DETAILS: 09-07-19 \nStaging Time: 10:00 AM\n \nMona View Cemetery\n3335 Mona View Dr\nMuskegon\, Michigan 49444\nMap\n\n\nRide Captain: \nDani Jennings\n(231) 225-6612\n\n\nSpecial Instructions: \nBriefing: 10:30 AM\nFlag Line: 10:45 AM\nGraveside Service with Military Honors: 11:00\n\n\nFlags & Water:\nFlags will be provided\nLarge Bike Flags will NOT be needed.\nWater WILL NOT be provided\, please bring your own.\n\n\n\nSubmitted By: Alan Niemeyer \nPosition: Michigan State Captain \n\nNote: You do not have to own/ride a motorcycle or be a veteran to join\, and membership is Free. The only requirement is RESPECT! To subscribe to receive mission notices\, log into the National Site and click on the Members tab at the top. Select the Subscribe to PGR Missions option.\n Print This Page
URL:https://www.patriotguard.org/mission/joseph-allen-greene-2/
CATEGORIES:Honor Mission
END:VEVENT
END:VCALENDAR