BEGIN:VCALENDAR
VERSION:2.0
PRODID:-//Patriot Guard Riders - ECPv5.6.0//NONSGML v1.0//EN
CALSCALE:GREGORIAN
METHOD:PUBLISH
X-WR-CALNAME:Patriot Guard Riders
X-ORIGINAL-URL:https://www.patriotguard.org
X-WR-CALDESC:Events for Patriot Guard Riders
BEGIN:VTIMEZONE
TZID:America/New_York
BEGIN:DAYLIGHT
TZOFFSETFROM:-0500
TZOFFSETTO:-0400
TZNAME:EDT
DTSTART:20160313T070000
END:DAYLIGHT
BEGIN:STANDARD
TZOFFSETFROM:-0400
TZOFFSETTO:-0500
TZNAME:EST
DTSTART:20161106T060000
END:STANDARD
END:VTIMEZONE
BEGIN:VEVENT
DTSTART;TZID=America/New_York:20160616T090000
DTEND;TZID=America/New_York:20160616T110000
DTSTAMP:20210513T143709
CREATED:20160616T130000Z
LAST-MODIFIED:20191201T145051Z
UID:411266-1466067600-1466074800@www.patriotguard.org
SUMMARY:Joseph A. Ramiriz\, 96\, USA\, WWII / Silvis
DESCRIPTION:The Patriot Guard Riders have been invited by the family of Joseph Angel Ramirez\, 96\, US Army WWII Veteran\, to participate in honoring his service to this Great Nation at his Funeral and Interment Services to be held on Thursday\, 16 JUN 16.\n\nMISSION:  \nThursday\, 16 JUN 16\, 1000 hrs. \nRALLY POINT: \nOur Lady of Guadalupe Catholic Church\, 800 17th St.\, Silvis\, IL  MAP \nRALLY TIME:  \n0900 hrs.\, PRB 0915 hrs.   Immediately establish our flag lines.  On completion of Funeral  Services\, we will escort to St. Mary’s Cemetery\, E. Moline\, IL for  Interment Services. \nRIDE CAPTAIN:\nEric Swanson  563-676-7145\nqcapgr@gmail.com
URL:https://www.patriotguard.org/mission/joseph-a-ramiriz-96-usa-wwii-silvis/
CATEGORIES:Archive
END:VEVENT
END:VCALENDAR