BEGIN:VCALENDAR
VERSION:2.0
PRODID:-//Patriot Guard Riders - ECPv5.3.2.1//NONSGML v1.0//EN
CALSCALE:GREGORIAN
METHOD:PUBLISH
X-WR-CALNAME:Patriot Guard Riders
X-ORIGINAL-URL:https://www.patriotguard.org
X-WR-CALDESC:Events for Patriot Guard Riders
BEGIN:VTIMEZONE
TZID:America/New_York
BEGIN:DAYLIGHT
TZOFFSETFROM:-0500
TZOFFSETTO:-0400
TZNAME:EDT
DTSTART:20130310T070000
END:DAYLIGHT
BEGIN:STANDARD
TZOFFSETFROM:-0400
TZOFFSETTO:-0500
TZNAME:EST
DTSTART:20131103T060000
END:STANDARD
END:VTIMEZONE
BEGIN:VEVENT
DTSTART;TZID=America/New_York:20130703T090000
DTEND;TZID=America/New_York:20130703T110000
DTSTAMP:20210403T013112
CREATED:20130703T130000Z
LAST-MODIFIED:20191201T120049Z
UID:385467-1372842000-1372849200@www.patriotguard.org
SUMMARY:Joseph A Lonardo\, USA Veteran\, Warren
DESCRIPTION:Sadly\, the family of Joseph A Lonardo\, a Veteran of the Vietnam Era serving in the US Army\, has requested a flag line to honor his service. \nJoseph A Lonardo served in the United States Army from Sept 8\, 1966 to Sept. 6th 1968 as a Wheeled Vehicle Mechanic stationed at Fort Dix\, NJ \nServices:  Wednesday July 3\, 2013 \nWilbur-Romano Funeral Home\n615 Main Street\nWarren\, RI \nStaging: 8 am\n(Family will be arriving at 8:30) \nRC:  Pappy \nAfter service at Funeral Home\, we will to directly to\nThe Chapel at Gates of Heaven Cemetery\n550 Wampanoag Trail East Providence\, RI \nFlags will be on site  **NOTE** Because of such short notice \, PLEASE if you can attend  do so \, Thank You all \,God Bless     R/C ~ Richard (pappy) Desjarlais   \nBarbara “Wolfy” Dardeen\nState Captain\nwolfee6102888@yahoo.com
URL:https://www.patriotguard.org/mission/joseph-a-lonardo-usa-veteran-warren/
CATEGORIES:Archive
END:VEVENT
END:VCALENDAR