BEGIN:VCALENDAR
VERSION:2.0
PRODID:-//Patriot Guard Riders - ECPv5.3.2.1//NONSGML v1.0//EN
CALSCALE:GREGORIAN
METHOD:PUBLISH
X-WR-CALNAME:Patriot Guard Riders
X-ORIGINAL-URL:https://www.patriotguard.org
X-WR-CALDESC:Events for Patriot Guard Riders
BEGIN:VTIMEZONE
TZID:America/New_York
BEGIN:DAYLIGHT
TZOFFSETFROM:-0500
TZOFFSETTO:-0400
TZNAME:EDT
DTSTART:20170312T070000
END:DAYLIGHT
BEGIN:STANDARD
TZOFFSETFROM:-0400
TZOFFSETTO:-0500
TZNAME:EST
DTSTART:20171105T060000
END:STANDARD
END:VTIMEZONE
BEGIN:VEVENT
DTSTART;TZID=America/New_York:20170406T210000
DTEND;TZID=America/New_York:20170406T230000
DTSTAMP:20210403T024456
CREATED:20170407T010000Z
LAST-MODIFIED:20191201T035536Z
UID:347701-1491512400-1491519600@www.patriotguard.org
SUMMARY:Joseph A. Jeddery\, Jr.\, Veteran\, USMC - Korea
DESCRIPTION:SGT Joseph A. Jeddery\, Jr.\, Veteran \nUSMC  – Korea \nEl Paso\, Texas – 06 Apr 2017\n\n\n[HR][/HR] \n\n\nABOUT THE MISSION: \nThe family of SGT Joseph A. Jeddery has requested the Patriot Guard   Riders to render honors for his interment. Sergeant Jeddery served in   the Korean conflict. During his service\, this American Hero was   presented the following awards: \nNational Defense Ribbon\nGood Conduct Medal\nSilver Star\nPurple Heart w/ Gold Star\nKorea Service Medal\nUnited Nations Service Medal \nPRIMARY STAGING DETAILS:  06 Apr 2017\n \n\n\n\nPrimary Staging Time:  1800 P.M.\n\nHillcrest Funeral Home\n1060 N. Carolina\n\nEl Paso\, Texas – 79915\n\n\n\n\n\n\n\nRide Captain:\n\nVaughn Nelson\n(915) 667-9992 Cell \nAdmin:\nPaul Lewey\n(915) 433-7000 Cell\n\n\n\n\nSpecial Instructions:\n\nThe family has requested an Honors Flag Line be  established  for family and friends attending a Rosary service at the  funeral home\,  1060 N. Carolina\, El Paso\, TX 79915 \nStage: 1800 hrs\nBriefing: 1815 hrs\nFlag Line: 1830 – 1900 hrs\n\n\n\n\nFlags & Water:\n\nFlags Will Be Provided\n\nLarge Bike Flags will NOT be needed.\n\nWater will be provided.\n\n\n[HR][/HR]\nSTAGING #2 DETAILS:  07 Apr\, 2017 \n\n\n\n Staging #2 Time:  1045 A.M.\n\nHillcrest Funeral Home\n1060 N. Carolina\n\nEl Paso\, Texas –\n\n\n\n\n\nRide Captain:\n\nVaughn Nelson\n(915) 667-9992 Cell \nAdmin:\nPaul Lewey\n(915) 433-7000 Cell\n\n\n\n\nSpecial Instructions:\n\nThe family has requested PGR to escort Sgt Jeddery  from the  funeral home to San Antonio De Padua Church\, 503 Hunter Drive\,  El Paso\,  TX 79915. \nStaging: 1045 hrs (1060 N. Carolina El Paso\, TX 79915)\nBriefing: 1100 hrs\nKSU: 1115 hrs (with EPPD escort) \nAfter the memorial service the PGR will escort Sgt Jeddery to Ft. Bliss   National Cemetery\, 5200 Fred Wilson Dr.\, El Paso\, TX\, 79906 \nKSU: 1230 hrs (approx. w/ EPPD escort) \nInterment:\n1300 hrs West Shelter \nUpon arrival\, the PGR will stand the Honors Flag Line at the Ft. Bliss National Cemetery. \nNote: Riders from the Marine MC will join PGR in this mission\n\n\n\n\n\nFlags & Water:\n\nFlags Will Be Provided\n\nLarge Bike Flags will be needed\n\nWater will be provided.\n\n\nSubmitted By:  Vaughn Nelson\nPosition:  Ride Captain\n\n[HR][/HR]\nNote:\nYou do not have to own/ride a motorcycle or be a Veteran to join and membership is Free. The only requirement is RESPECT! To join\, simply go to www.PatriotGuard.org and click on Register. Membership is Free. \nTo subscribe to receive mission notices\, log into the National Site and   click on the Mission Tab at the top. Select Upcoming Missions by State.   Scroll to the state(s) you would like to receive notices for and click   on the green check mark. Detailed instructions are also located in the   FAQs on the site by clicking on the Quick Links Tab and selecting  FAQs.
URL:https://www.patriotguard.org/mission/joseph-a-jeddery-jr-veteran-usmc-korea/
END:VEVENT
END:VCALENDAR