BEGIN:VCALENDAR
VERSION:2.0
PRODID:-//Patriot Guard Riders - ECPv5.3.2.1//NONSGML v1.0//EN
CALSCALE:GREGORIAN
METHOD:PUBLISH
X-WR-CALNAME:Patriot Guard Riders
X-ORIGINAL-URL:https://www.patriotguard.org
X-WR-CALDESC:Events for Patriot Guard Riders
BEGIN:VTIMEZONE
TZID:America/New_York
BEGIN:DAYLIGHT
TZOFFSETFROM:-0500
TZOFFSETTO:-0400
TZNAME:EDT
DTSTART:20210314T070000
END:DAYLIGHT
BEGIN:STANDARD
TZOFFSETFROM:-0400
TZOFFSETTO:-0500
TZNAME:EST
DTSTART:20211107T060000
END:STANDARD
END:VTIMEZONE
BEGIN:VEVENT
DTSTART;VALUE=DATE:20210402
DTEND;VALUE=DATE:20210403
DTSTAMP:20210401T151750
CREATED:20210329T133341Z
LAST-MODIFIED:20210329T133341Z
UID:573170-1617321600-1617407999@www.patriotguard.org
SUMMARY:Jose Guadalupe Garcia
DESCRIPTION:Honor Mission\nJose Guadalupe Garcia\, Veteran\nUSA – Korea\nMULTI-CITY\, Texas – 04-02-21\n\n\n\nABOUT THE MISSION: \nMr. Garcia was drafted into the Army in 1951 and served as a half-track mechanic. He was sent overseas to France in support of the Korean War\, and would eventually get out of the Army in 1953. He enjoyed reading the newspaper\, the Dallas Cowboys\, San Antonio Spurs\, and spending time with his family.\n\n\nPRIMARY STAGING DETAILS: 04-02-21 \nStaging Time: 2:00 PM\n \nSunset Funeral Home & Memorial Park\n1701 Austin Hwy\nSan Antonio\, Texas 78218\n\n\nRide Captain: \nJuan “Mr T” Tarango\njuantarango16@yahoo.com\n\n\nSpecial Instructions: \nStaging: 2:00 PM\nBriefing: 2:15 PM\nFlag Line: 2:30 PM\nService: 3:00 PM\nInterment: 4:00 PM\n\n\nFlags & Water:\nFlags will be provided\nIf you have large bike flags\, please bring them.\nWater will be provided.\n\n\nSubmitted By: Lisa Menard \nPosition: National Store Manager \n\nNote: You do not have to own/ride a motorcycle or be a veteran to join\, and membership is Free. The only requirement is RESPECT! To subscribe to receive mission notices\, log into the National Site and click on the Members tab at the top. Select the Subscribe to PGR Missions option.\n Print This Page
URL:https://www.patriotguard.org/mission/jose-guadalupe-garcia/
CATEGORIES:Honor Mission
END:VEVENT
END:VCALENDAR