BEGIN:VCALENDAR
VERSION:2.0
PRODID:-//Patriot Guard Riders - ECPv5.3.2.1//NONSGML v1.0//EN
CALSCALE:GREGORIAN
METHOD:PUBLISH
X-WR-CALNAME:Patriot Guard Riders
X-ORIGINAL-URL:https://www.patriotguard.org
X-WR-CALDESC:Events for Patriot Guard Riders
BEGIN:VTIMEZONE
TZID:America/New_York
BEGIN:DAYLIGHT
TZOFFSETFROM:-0500
TZOFFSETTO:-0400
TZNAME:EDT
DTSTART:20190310T070000
END:DAYLIGHT
BEGIN:STANDARD
TZOFFSETFROM:-0400
TZOFFSETTO:-0500
TZNAME:EST
DTSTART:20191103T060000
END:STANDARD
END:VTIMEZONE
BEGIN:VEVENT
DTSTART;VALUE=DATE:20190605
DTEND;VALUE=DATE:20190607
DTSTAMP:20210405T053627
CREATED:20190602T154133Z
LAST-MODIFIED:20190602T154133Z
UID:163259-1559692800-1559865599@www.patriotguard.org
SUMMARY:Jose E. Rios
DESCRIPTION:Honor Mission\nJose E. Rios\, Veteran\nUSA – Vietnam\nSan Antonio\, Texas – 06-05-19\n\n\n\nABOUT THE MISSION:\n\nThe family of Mr. Jose E. Rios\, a US Army veteran\, requests the presence and participation of the Patriot Guard Riders.  Mr. Rios was born in Kingsville\, Texas on February 20\, 1949. He went to be with the Lord on May 25\, 2019 at the age of 70. Mr. Rios served his country in the United States Army. Mr. Rios received 3 Bronze Stars while serving in Vietnam. He was also an active member of the Patriot Guard Riders and the American Legion Riders.\n\n\nPRIMARY STAGING DETAILS: 06-05-19 \nStaging Time: 5:30 p.m. \nMission Park Funeral Chapels South\n1700 Military Dr\nSan Antonio\, Texas 78214\nMap\n\n\nRide Captain: \nBob “Pizza Man” Johnson\nbobtxpgr@gmail.com\n\n\nSpecial Instructions: \nBriefing: 05:45 PM\nService: 06:15 PM\n\nFlags: Alice “Cake Lady” Wagener\n\n\nFlags & Water:\nFlags will be provided\nLarge Bike Flags will NOT be needed.\nWater will be provided.\n\nSTAGING #2 DETAILS: 06-06-19 \nStaging Time: 08:00 a.m. \n\nMission Park Funeral Chapels South\n1700 Military Dr\nSan Antonio\, Texas 78214\nMap\n\n\n\nRide Captain: \n\nBob “Pizza Man” Johnson\nbobtxpgr@gmail.com\n\n\n\nSpecial Instructions: \nBriefing: 08:45 AM\nService: 09:30 AM\nKSU: 10:30 AM\nInterment: 11:15 AM\, Fort Sam Houston National Cemetery\, 1520 Harry Wurzbach Rd.\, San Antonio\, TX 78209  Map\n\nFlags: Alice “Cake Lady” Wagener\n\n\nFlags & Water:\nFlags will be provided\nIf you have large bike flags\, please bring them.\nWater will be provided.\n\n\n\nSubmitted By: Lisa Menard \nPosition: Texas Ride Captain \n\nNote: You do not have to own/ride a motorcycle or be a veteran to join\, and membership is Free. The only requirement is RESPECT! To subscribe to receive mission notices\, log into the National Site and click on the Members tab at the top. Select the Subscribe to PGR Missions option.\n Print This Page
URL:https://www.patriotguard.org/mission/jose-e-rios/
CATEGORIES:Honor Mission
END:VEVENT
END:VCALENDAR