BEGIN:VCALENDAR
VERSION:2.0
PRODID:-//Patriot Guard Riders - ECPv5.3.2.1//NONSGML v1.0//EN
CALSCALE:GREGORIAN
METHOD:PUBLISH
X-WR-CALNAME:Patriot Guard Riders
X-ORIGINAL-URL:https://www.patriotguard.org
X-WR-CALDESC:Events for Patriot Guard Riders
BEGIN:VTIMEZONE
TZID:America/New_York
BEGIN:DAYLIGHT
TZOFFSETFROM:-0500
TZOFFSETTO:-0400
TZNAME:EDT
DTSTART:20170312T070000
END:DAYLIGHT
BEGIN:STANDARD
TZOFFSETFROM:-0400
TZOFFSETTO:-0500
TZNAME:EST
DTSTART:20171105T060000
END:STANDARD
END:VTIMEZONE
BEGIN:VEVENT
DTSTART;TZID=America/New_York:20170504T094500
DTEND;TZID=America/New_York:20170504T114500
DTSTAMP:20210406T004216
CREATED:20170504T134500Z
LAST-MODIFIED:20191201T030809Z
UID:312577-1493891100-1493898300@www.patriotguard.org
SUMMARY:Jose E. Lopez-Cobena\, Active Duty\, USA
DESCRIPTION:CW2 Jose E. Lopez-Cobena\, Active Duty \nUSA \nColorado Springs\, Colorado – 04 May 2017\n\n\n[HR][/HR]ABOUT THE MISSION: \nThe Patriot Guard Riders have been invited to stand in honor at the   Memorial Service for CW2 Jose E. Lopez-Cobena\, at 11:00AM\, on Thursday\,   May 4\, 2017 at the Soldier’s Memorial Chapel\, 6333 Martinez Street\,  Fort  Carson\, Colorado Springs. \nCW2 Lopez-Cobena\, age 40\, had served in the US Army for nearly 20 years.   He was assigned to the 2nd Infantry Brigade\, 4th Infantry Division and   was managing the Motor Pool at Guantanamo Bay\, Cuba at the time of his   death. He died of a non-combat drowning incident. \n9:45AM – Stage at Gate 1\, near the Flagpole\n10:00AM – Mission Briefing\n10:15AM – Depart for the Soldier’s Memorial Chapel to form Flag Line \nWill an available Ride Captain please contact Jim Herstein. \nFlags will be needed for this Service. \nWhether you ride or cage\, please make sure your drivers license\, vehicle   registration and proof of insurance are all current. Riders must have a   helmet\, eye protection\, over the ankle boots\, full finger gloves\, long   pants and long sleeves. The Ride Captain can verify if a brightly   colored vest is also required. \nIf you don’t have a security pass for Fort Carson\, please plan to arrive   in time to make a stop at the Visitors Center for a temporary entry   pass. The Visitors Center is about 200 feet south of Gate 1. \nPRIMARY STAGING DETAILS:  04 May 2017 \n\n\n\nPrimary Staging Time:  9:45 A.M.\n\nGate 1 – Fort Carson\n\nColorado Springs\, Colorado – 80902\n\n \n\nRide Captain:\n\nTo Be Determined\n\n\n\n\nSpecial Instructions:\n\n \n\n\n\nFlags & Water:\n\nFlags Will Be Provided\n\nLarge Bike Flags will NOT be needed.\n\nWater will be provided.\n\n\nSubmitted By:  Jim Herstein\nPosition:  State HOTH Coordinator\n\n[HR][/HR]\nNote:\nYou do not have to own/ride a motorcycle or be a Veteran to join and membership is Free. The only requirement is RESPECT! To join\, simply go to www.PatriotGuard.org and click on Register. Membership is Free. \nTo subscribe to receive mission notices\, log into the National Site and   click on the Mission Tab at the top. Select Upcoming Missions by State.   Scroll to the state(s) you would like to receive notices for and click   on the green check mark. Detailed instructions are also located in the   FAQs on the site by clicking on the Quick Links Tab and selecting  FAQs.
URL:https://www.patriotguard.org/mission/jose-e-lopez-cobena-active-duty-usa/
END:VEVENT
END:VCALENDAR