BEGIN:VCALENDAR
VERSION:2.0
PRODID:-//Patriot Guard Riders - ECPv5.3.2.1//NONSGML v1.0//EN
CALSCALE:GREGORIAN
METHOD:PUBLISH
X-WR-CALNAME:Patriot Guard Riders
X-ORIGINAL-URL:https://www.patriotguard.org
X-WR-CALDESC:Events for Patriot Guard Riders
BEGIN:VTIMEZONE
TZID:America/New_York
BEGIN:DAYLIGHT
TZOFFSETFROM:-0500
TZOFFSETTO:-0400
TZNAME:EDT
DTSTART:20190310T070000
END:DAYLIGHT
BEGIN:STANDARD
TZOFFSETFROM:-0400
TZOFFSETTO:-0500
TZNAME:EST
DTSTART:20191103T060000
END:STANDARD
END:VTIMEZONE
BEGIN:VEVENT
DTSTART;VALUE=DATE:20190904
DTEND;VALUE=DATE:20190905
DTSTAMP:20210401T075941
CREATED:20190902T160252Z
LAST-MODIFIED:20190902T160252Z
UID:172430-1567555200-1567641599@www.patriotguard.org
SUMMARY:Jose Arsenio Gonzales
DESCRIPTION:Honor Mission\nJose Arsenio Gonzales\, Retired\nANG\nSan Felipe\, New Mexico – 09-04-19\n\n\n\nABOUT THE MISSION: \nThe Patriot Guard Riders of New Mexico have been requested by the family to honor Chief Warrant Officer III Jose Gonzales. CWO III Gonzales served our country from 1956 to 1992 in the NM Army National Guard\, in which he honorably retired. In 1980\, the NM National Guard was called to respond to the prison riot in Santa Fe\, NM. Jose was one of the first men on the ground for the National Guard\n\n\nPRIMARY STAGING DETAILS: 09-04-19 \nStaging Time: 7:45 am  \nBlack Mesa Travel Center\n26 Hagen Rd\nSan Felipe\, New Mexico\n\n\nRide Captain: \nDan Rambow – dan48041@yahoo.com – 505-210-1203\nBilly Crain – bdcrain50@gmail.com – 505-263-8771\n\n\nSpecial Instructions: \nBriefing: 8:05 am\nKick Stands Up: 8:15 – travel to:\nSt. Anne Catholic Parish\n511 Alicia Street\nSanta Fe\, NM 87501\nFlag Line:  9:30-10:00 am\nEscort: 12:00 pm – escort to Santa Fe National Cemetery and establish flag line for 12:45 pm services\n\n\nFlags & Water:\nFlags will be provided\nLarge Bike Flags will NOT be needed.\nWater WILL NOT be provided\, please bring your own.\n\nSubmitted By: Daniel Rambow \nPosition: New Mexico Ride Captain \n\nNote: You do not have to own/ride a motorcycle or be a veteran to join\, and membership is Free. The only requirement is RESPECT! To subscribe to receive mission notices\, log into the National Site and click on the Members tab at the top. Select the Subscribe to PGR Missions option.\n Print This Page
URL:https://www.patriotguard.org/mission/jose-arsenio-gonzales/
CATEGORIES:Honor Mission
END:VEVENT
END:VCALENDAR