BEGIN:VCALENDAR
VERSION:2.0
PRODID:-//Patriot Guard Riders - ECPv5.3.2.1//NONSGML v1.0//EN
CALSCALE:GREGORIAN
METHOD:PUBLISH
X-WR-CALNAME:Patriot Guard Riders
X-ORIGINAL-URL:https://www.patriotguard.org
X-WR-CALDESC:Events for Patriot Guard Riders
BEGIN:VTIMEZONE
TZID:America/New_York
BEGIN:DAYLIGHT
TZOFFSETFROM:-0500
TZOFFSETTO:-0400
TZNAME:EDT
DTSTART:20190310T070000
END:DAYLIGHT
BEGIN:STANDARD
TZOFFSETFROM:-0400
TZOFFSETTO:-0500
TZNAME:EST
DTSTART:20191103T060000
END:STANDARD
END:VTIMEZONE
BEGIN:VEVENT
DTSTART;VALUE=DATE:20190815
DTEND;VALUE=DATE:20190816
DTSTAMP:20210402T194901
CREATED:20190812T172636Z
LAST-MODIFIED:20190812T174407Z
UID:170620-1565827200-1565913599@www.patriotguard.org
SUMMARY:Jon Schilb
DESCRIPTION:Honor Mission\nJon Schilb\, Veteran\nUSN\, USNR – WoT\nBallwin\, Missouri – 08-15-19\n\n\n\nABOUT THE MISSION: \nPatriot Guard Riders\, please join us in standing a flag line of honor and respect for U.S. Navy veteran Petty Officer Jon Schilb just as he once stood for us.\n\n\nPRIMARY STAGING DETAILS: 08-15-19 \nStaging Time: 10:00 am\n \nSchrader funeral Home\n14960 Manchester Rd.\nBallwin\, Missouri 63011\n\n\nRide Captain: \nMike Albers\nhuck3517@yahoo.com\n\n\nSpecial Instructions: \nStage-10:00 meeting to follow\nFlag line- 10:30-11:30\nService- 11:30\nJefferson Barracks-1:00\n\n\nFlags & Water:\nFlags will be provided\nIf you have large bike flags\, please bring them.\nWater will be provided.\n\n\nSubmitted By: Michael Albers \nPosition: Missouri Ride Captain \n\nNote: You do not have to own/ride a motorcycle or be a veteran to join\, and membership is Free. The only requirement is RESPECT! To subscribe to receive mission notices\, log into the National Site and click on the Members tab at the top. Select the Subscribe to PGR Missions option.\n Print This Page
URL:https://www.patriotguard.org/mission/jon-schilb/
CATEGORIES:Honor Mission
END:VEVENT
END:VCALENDAR